BEGIN:VCALENDAR
VERSION:2.0
PRODID:-//Sabre//Sabre VObject 4.5.8//EN
CALSCALE:GREGORIAN
LAST-MODIFIED:20251013T162635Z
BEGIN:VTIMEZONE
TZID:Europe/London
X-MICROSOFT-CDO-TZID:1
BEGIN:STANDARD
DTSTART:20241027T010000
TZOFFSETFROM:+0100
TZOFFSETTO:+0000
TZNAME:GMT
END:STANDARD
BEGIN:STANDARD
DTSTART:20251026T010000
TZOFFSETFROM:+0100
TZOFFSETTO:+0000
TZNAME:GMT
END:STANDARD
BEGIN:DAYLIGHT
DTSTART:20250330T010000
TZOFFSETFROM:+0000
TZOFFSETTO:+0100
TZNAME:BST
END:DAYLIGHT
END:VTIMEZONE
BEGIN:VEVENT
UID:2958fbd0-8609-4d69-a040-ab7bd11bc6fb
DTSTAMP:20251013T162635Z
SUMMARY:Internationalization (I18N) WG Teleconference
DTSTART;TZID=Europe/London:20251016T150000
DTEND;TZID=Europe/London:20251016T160000
DESCRIPTION:https://www.w3.org/events/meetings/2958fbd0-8609-4d69-a040-ab7b
 d11bc6fb/20251016T150000/\n\n***NOTE WELL*** This meeting is scheduled in 
 the `Europe/London` time zone. \n\nThat time zone observes Daylight Saving
 s/Summer Time. Your local time for this call may vary due to differences i
 n your local time zone's observation of DST/ST from that of the UK.\n\n###
  Agenda Items of Note This Week\n- Support for multi-language render\n- La
 nguage tags for non-linguistic content\n\nAgenda\n\n### BE PREPARED \nThin
 gs to do before the meeting:\n\n---\n### Topic: Agenda Review\n\n### Topic
 : Action Items\n_Review of open action items from previous meetings_\n* [I
 18N-ACTIONS](https://github.com/w3c/i18n-actions/issues)\n\n### Topic: Inf
 o Share\n_Share information of interest to the working group or pertaining
  to internationalization in general._\n\n### Topic: Review RADAR Review\n_
 Time to review new and on-going requests for specification review. Incomin
 g requests are assigned to shepherds in this part of the call._\n_In addit
 ion\, we review the status of specifications that have received comments. 
 *Please review your issues and owned items in advance of the call*_\n* [RA
 DAR](https://github.com/orgs/w3c/projects/91/views/1)\n\n### Topic: Pendin
 g Issue Review\n_Review of new and pending issues raised by working group 
 members or via the various bots._\n* [Pending Issues](https://github.com/w
 3c/i18n-activity/issues?q=is%3Aissue+is%3Aopen+label%3Apending)\n\n---\n##
 # Topic: Support for multi-language render\nVerifiable credentials. Reques
 ting us to look at support for multi-language rendering.\n\n[Addison's ema
 il](https://lists.w3.org/Archives/Public/public-i18n-core/2025OctDec/0013.
 html)\n[Support for multi-language render](https://github.com/w3c/i18n-act
 ivity/issues/2038)\n\n### Topic: Language tags for non-linguistic content\
 nTimed Text. Discuss BCP 47 tags for non-linguistic content. Marked as clo
 se?\n[Tracker issue](https://github.com/w3c/i18n-activity/issues/2033)\n\n
 ---\n\n### Topic: AOB?\n\n#### REMINDER \nGetting too many of these notifi
 cations? Read [this](https://lists.w3.org/Archives/Member/member-i18n-core
 /2022Mar/0013.html) email from Richard on how to manage notifications.\n\n
 \n#### SCRIBE \nIf you are set to scribe and cannot make it\, please send 
 regrets to the chair. Volunteers to act as scribe cheerfully accepted.\n\n
 * Atsushi\n* Bert\n* Fuqiao\n\n#### Chair's Link Farm\n[Actions](https://g
 ithub.com/w3c/i18n-actions/issues)\n[RADAR](https://github.com/orgs/w3c/pr
 ojects/91/views/1)\n[pending issues](https://github.com/w3c/i18n-activity/
 issues?q=is%3Aissue+is%3Aopen+label%3Apending)\n[`close?` issues](https://
 github.com/w3c/i18n-activity/issues?q=is%3Aissue%20is%3Aopen%20label%3Aclo
 se%3F)\n[Public list](https://lists.w3.org/Archives/Public/public-i18n-cor
 e/)\n[Member list](https://lists.w3.org/Archives/Member/member-i18n-core/)
 \n[Chair dashboard](https://www.w3.org/PM/Groups/chairboard.html?gid=wg/i1
 8n-core)\n\n***WHAT IS THIS?*** This is the regular weekly teleconference 
 of the W3C Internationalization Working Group.\n\n***AGENDA+*** If you wou
 ld like the chair to consider adding an item to the agenda\, please send e
 mail to the public-i18n-core@ mailing list with a subject line starting `a
 genda+`. Here is an [example](https://lists.w3.org/Archives/Public/public-
 i18n-core/2023OctDec/0007.html).
STATUS:CONFIRMED
CREATED:20251013T160526Z
LAST-MODIFIED:20251013T162635Z
SEQUENCE:2
ORGANIZER;CN=W3C Calendar;PARTSTAT=ACCEPTED;ROLE=NON-PARTICIPANT:mailto:nor
 eply@w3.org
ATTENDEE;CUTYPE=GROUP;ROLE=OPT-PARTICIPANT;RSVP=FALSE;CN=Internationalizati
 on Working Group:mailto:public-i18n-core@w3.org
RECURRENCE-ID;TZID=Europe/London:20251016T150000
END:VEVENT
END:VCALENDAR
