BEGIN:VCALENDAR
VERSION:2.0
PRODID:-//Sabre//Sabre VObject 4.5.8//EN
CALSCALE:GREGORIAN
LAST-MODIFIED:20231211T073330Z
BEGIN:VTIMEZONE
TZID:America/New_York
X-MICROSOFT-CDO-TZID:10
BEGIN:DAYLIGHT
DTSTART:20230312T070000
TZOFFSETFROM:-0500
TZOFFSETTO:-0400
TZNAME:EDT
END:DAYLIGHT
BEGIN:DAYLIGHT
DTSTART:20240310T070000
TZOFFSETFROM:-0500
TZOFFSETTO:-0400
TZNAME:EDT
END:DAYLIGHT
BEGIN:STANDARD
DTSTART:20231105T060000
TZOFFSETFROM:-0400
TZOFFSETTO:-0500
TZNAME:EST
END:STANDARD
END:VTIMEZONE
BEGIN:VEVENT
UID:27f5f4fd-5083-40ce-9f5e-a77e675ded67
DTSTAMP:20231211T073330Z
SUMMARY:PNG marketing meeting
DTSTART;TZID=America/New_York:20231211T100000
DTEND;TZID=America/New_York:20231211T110000
DESCRIPTION:https://www.w3.org/events/meetings/27f5f4fd-5083-40ce-9f5e-a77e
 675ded67/\n\nThe primary meeting link ishttps://w3c.zoom.us/j/85136933003?
 pwd=SW9ZaFV0UEpydkU2RXNMYnEraE85QT09
STATUS:CANCELLED
CREATED:20231211T073213Z
LAST-MODIFIED:20231211T073330Z
SEQUENCE:1
ORGANIZER;CN=W3C Calendar;PARTSTAT=ACCEPTED;ROLE=NON-PARTICIPANT:mailto:nor
 eply@w3.org
ATTENDEE;CUTYPE=GROUP;ROLE=OPT-PARTICIPANT;RSVP=FALSE;CN=Portable Network G
 raphics (PNG) Working Group:mailto:public-png@w3.org
END:VEVENT
BEGIN:VEVENT
UID:77dd00ce-0351-4282-bab9-bdef33c6d076
DTSTAMP:20231211T073213Z
SUMMARY:PNG marketing meeting
DTSTART;TZID=America/New_York:20231127T100000
DTEND;TZID=America/New_York:20231127T110000
DESCRIPTION:https://www.w3.org/events/meetings/77dd00ce-0351-4282-bab9-bdef
 33c6d076/\n\nThe primary meeting link ishttps://w3c.zoom.us/j/85136933003?
 pwd=SW9ZaFV0UEpydkU2RXNMYnEraE85QT09
STATUS:CONFIRMED
CREATED:20231113T172307Z
LAST-MODIFIED:20231211T073213Z
SEQUENCE:1
ORGANIZER;CN=W3C Calendar;PARTSTAT=ACCEPTED;ROLE=NON-PARTICIPANT:mailto:nor
 eply@w3.org
ATTENDEE;CUTYPE=GROUP;ROLE=OPT-PARTICIPANT;RSVP=FALSE;CN=Portable Network G
 raphics (PNG) Working Group:mailto:public-png@w3.org
RRULE:FREQ=WEEKLY;UNTIL=20231127T150000Z;INTERVAL=2;BYDAY=MO;WKST=MO
RELATED-TO:27f5f4fd-5083-40ce-9f5e-a77e675ded67
END:VEVENT
BEGIN:VEVENT
UID:77dd00ce-0351-4282-bab9-bdef33c6d076
DTSTAMP:20231127T070136Z
SUMMARY:PNG marketing meeting
DTSTART;TZID=America/New_York:20231127T100000
DTEND;TZID=America/New_York:20231127T110000
DESCRIPTION:https://www.w3.org/events/meetings/77dd00ce-0351-4282-bab9-bdef
 33c6d076/20231127T100000/\n\nThe primary meeting link ishttps://w3c.zoom.u
 s/j/85136933003?pwd=SW9ZaFV0UEpydkU2RXNMYnEraE85QT09
STATUS:CANCELLED
CREATED:20231127T070136Z
LAST-MODIFIED:20231127T070136Z
SEQUENCE:1
ORGANIZER;CN=W3C Calendar;PARTSTAT=ACCEPTED;ROLE=NON-PARTICIPANT:mailto:nor
 eply@w3.org
ATTENDEE;CUTYPE=GROUP;ROLE=OPT-PARTICIPANT;RSVP=FALSE;CN=Portable Network G
 raphics (PNG) Working Group:mailto:public-png@w3.org
RECURRENCE-ID;TZID=America/New_York:20231127T100000
END:VEVENT
END:VCALENDAR
