BEGIN:VCALENDAR
VERSION:2.0
PRODID:-//Sabre//Sabre VObject 4.5.8//EN
CALSCALE:GREGORIAN
LAST-MODIFIED:20241114T070140Z
BEGIN:VTIMEZONE
TZID:Europe/Berlin
X-MICROSOFT-CDO-TZID:4
BEGIN:DAYLIGHT
DTSTART:20240331T010000
TZOFFSETFROM:+0100
TZOFFSETTO:+0200
TZNAME:CEST
END:DAYLIGHT
BEGIN:DAYLIGHT
DTSTART:20250330T010000
TZOFFSETFROM:+0100
TZOFFSETTO:+0200
TZNAME:CEST
END:DAYLIGHT
BEGIN:STANDARD
DTSTART:20241027T010000
TZOFFSETFROM:+0200
TZOFFSETTO:+0100
TZNAME:CET
END:STANDARD
END:VTIMEZONE
BEGIN:VEVENT
UID:27ccdd67-4ad6-476b-bdc2-b1b48da1995b
DTSTAMP:20241114T070140Z
SUMMARY:Meetup 21: Web of Things for every thing
DTSTART;TZID=Europe/Berlin:20241114T160000
DTEND;TZID=Europe/Berlin:20241114T173000
DESCRIPTION:https://www.w3.org/events/meetings/27ccdd67-4ad6-476b-bdc2-b1b4
 8da1995b/\n\nIn this meetup\, we welcome Christian Paul ([GitLab](https://
 gitlab.com/jaller94) | [LinkedIn](https://www.linkedin.com/in/christian-pa
 ul-57ba2a11a/)).\n\nDiscover how easy it is to build\, test and prototype 
 with the Web of Things paradigm. This meetup introduces two new tools for 
 you to use: "WoT Wrench" and "WoT Anything."\n\nWoT Wrench is a web app th
 at simplifies debugging and interacting with Things. Meanwhile\, WoT Anyth
 ing serves as a versatile JavaScript server that closely implements WoT st
 andards with a twist - allowing multiple Things to share properties\, acti
 ons\, and events. This approach enables flexible API integration beyond tr
 aditional one-to-one device mapping.\n\nChristian will demonstrate how vir
 tual Things and API integrations broaden the definition of what can qualif
 y as an IoT device.\n\nAgenda\n\n- News from the CG\n- Introduction of the
  Speaker\n- Presentation\n- Q&A\n- Discussion session\n\nJoining Instructi
 ons: https://teams.microsoft.com/l/meetup-join/19%3ameeting_ZGFhZmI2YjItZj
 Q3ZC00Mzk0LTg3NzctZWU0ZDVkNTVmNTZl%40thread.v2/0?context=%7b%22Tid%22%3a%2
 238ae3bcd-9579-4fd4-adda-b42e1495d55a%22%2c%22Oid%22%3a%22d4a09f25-e37d-4f
 6d-95cf-a8c302d7e2d2%22%7d\n\nJoining Instructions\n\nIf the direct link d
 oes not work:\n\nGo to: https://www.microsoft.com/en-us/microsoft-teams/jo
 in-a-meeting\nMeeting ID: 381 090 770 855\nPasscode: bqQ7vY\n\nFull Link: 
 https://teams.microsoft.com/l/meetup-join/19%3ameeting_ZGFhZmI2YjItZjQ3ZC0
 0Mzk0LTg3NzctZWU0ZDVkNTVmNTZl%40thread.v2/0?context=%7b%22Tid%22%3a%2238ae
 3bcd-9579-4fd4-adda-b42e1495d55a%22%2c%22Oid%22%3a%22d4a09f25-e37d-4f6d-95
 cf-a8c302d7e2d2%22%7d
STATUS:CONFIRMED
CREATED:20241105T113145Z
LAST-MODIFIED:20241114T070140Z
SEQUENCE:0
ORGANIZER;CN=W3C Calendar;PARTSTAT=ACCEPTED;ROLE=NON-PARTICIPANT:mailto:nor
 eply@w3.org
ATTENDEE;CUTYPE=GROUP;ROLE=OPT-PARTICIPANT;RSVP=FALSE;CN=Web of Things Comm
 unity Group:mailto:public-web-of-things@w3.org
ATTENDEE;CN=Reiner Mueller:mailto:reiner.e.mueller@siemens.com
END:VEVENT
END:VCALENDAR
