BEGIN:VCALENDAR
VERSION:2.0
PRODID:-//Sabre//Sabre VObject 4.5.8//EN
CALSCALE:GREGORIAN
LAST-MODIFIED:20250616T053835Z
BEGIN:VTIMEZONE
TZID:Asia/Hong_Kong
BEGIN:STANDARD
DTSTART:20240623T130000
TZOFFSETFROM:+0800
TZOFFSETTO:+0800
TZNAME:HKT
END:STANDARD
END:VTIMEZONE
BEGIN:VEVENT
UID:271f9181-927e-403e-a00f-d2ceb7ee8b98
DTSTAMP:20250616T053835Z
SUMMARY:AI Agent Protocol CG Meeting
DTSTART;TZID=Asia/Hong_Kong:20250618T210000
DTEND;TZID=Asia/Hong_Kong:20250618T220000
DESCRIPTION:https://www.w3.org/events/meetings/271f9181-927e-403e-a00f-d2ce
 b7ee8b98/20250618T210000/\n\n\n\nAgenda\n\n1. Introduction - Attendees\n\n
 2. CG plan: aims and output\n\n3. Logistics\n\n4. Draft of the White Paper
 \n \n5. Technical CG Report
STATUS:CONFIRMED
CREATED:20250616T053834Z
LAST-MODIFIED:20250616T053835Z
SEQUENCE:5
ORGANIZER;CN=W3C Calendar;PARTSTAT=ACCEPTED;ROLE=NON-PARTICIPANT:mailto:nor
 eply@w3.org
ATTENDEE;CUTYPE=GROUP;ROLE=OPT-PARTICIPANT;RSVP=FALSE;CN=AI Agent Protocol 
 Community Group:mailto:public-agentprotocol@w3.org
LOCATION:online Zoom meeting
RECURRENCE-ID;TZID=Asia/Hong_Kong:20250618T210000
END:VEVENT
END:VCALENDAR
