BEGIN:VCALENDAR
VERSION:2.0
PRODID:-//Sabre//Sabre VObject 4.5.8//EN
CALSCALE:GREGORIAN
LAST-MODIFIED:20230731T131314Z
BEGIN:VTIMEZONE
TZID:Etc/UTC
BEGIN:STANDARD
DTSTART:20220723T150000
TZOFFSETFROM:+0000
TZOFFSETTO:+0000
TZNAME:UTC
END:STANDARD
END:VTIMEZONE
BEGIN:VEVENT
UID:26e6dd26-abe1-4945-a290-70cc17154089
DTSTAMP:20230731T131314Z
SUMMARY:WebRTC WG July 2023 call
DTSTART;TZID=Etc/UTC:20230718T150000
DTEND;TZID=Etc/UTC:20230718T170000
DESCRIPTION:https://www.w3.org/events/meetings/26e6dd26-abe1-4945-a290-70cc
 17154089/\n\n\n\nAgenda: https://www.w3.org/2011/04/webrtc/wiki/July_18_20
 23
STATUS:TENTATIVE
CREATED:20230424T064328Z
LAST-MODIFIED:20230731T131314Z
SEQUENCE:0
ORGANIZER;CN=W3C Calendar;PARTSTAT=ACCEPTED;ROLE=NON-PARTICIPANT:mailto:nor
 eply@w3.org
ATTENDEE;CUTYPE=GROUP;ROLE=OPT-PARTICIPANT;RSVP=FALSE;CN=Web Real-Time Comm
 unications Working Group:mailto:public-webrtc@w3.org
END:VEVENT
END:VCALENDAR
