BEGIN:VCALENDAR
VERSION:2.0
PRODID:-//Sabre//Sabre VObject 4.5.8//EN
CALSCALE:GREGORIAN
LAST-MODIFIED:20210908T063519Z
BEGIN:VTIMEZONE
TZID:America/New_York
X-MICROSOFT-CDO-TZID:10
BEGIN:STANDARD
DTSTART:20201101T060000
TZOFFSETFROM:-0400
TZOFFSETTO:-0500
TZNAME:EST
END:STANDARD
BEGIN:STANDARD
DTSTART:20211107T060000
TZOFFSETFROM:-0400
TZOFFSETTO:-0500
TZNAME:EST
END:STANDARD
BEGIN:DAYLIGHT
DTSTART:20210314T070000
TZOFFSETFROM:-0500
TZOFFSETTO:-0400
TZNAME:EDT
END:DAYLIGHT
END:VTIMEZONE
BEGIN:VEVENT
UID:26bf5155-6ce3-44c8-b3bc-a3268d7fa71d
DTSTAMP:20210908T063519Z
SUMMARY:EPUB WG Accessibility TF
DTSTART;TZID=America/New_York:20210909T100000
DTEND;TZID=America/New_York:20210909T110000
DESCRIPTION:https://www.w3.org/events/meetings/26bf5155-6ce3-44c8-b3bc-a326
 8d7fa71d/20210909T100000/\n\n\n\nAgenda: https://lists.w3.org/Archives/Pub
 lic/public-epub-wg/2021Sep/0003.html\n\nAgenda\n\nProposed agenda:\n\n1. P
 roposed solution for issue #1767 (Is zero tolerance for accessibility conf
 ormance practical)\nPull request: https://github.com/w3c/epub-specs/pull/1
 795\n\n2. #1590 (evaluation date metadata)\nPull request: https://github.c
 om/w3c/epub-specs/pull/1796\n\n3. TPAC meetings to schedule with APA:\n* H
 orizontal review of the Epub suite\n* Related work in APA\, Epub\, CSS (an
 d possibly other WG)\n* on spoken presentation.\n* Normative use of schema
  in W3C specifications in the light of introduction of registries in Proce
 ss 2021.\n\nThe following days are open for now:\nMonday 25 October\nTuesd
 ay 26 October\nThursday 28 October\nFriday 29 October\n\n4. Some issues to
  highlight for discussion on GitHub:\n#1789 (Clarify certifier needs to be
  associated with conformance statement)\nhttps://github.com/w3c/epub-specs
 /issues/1789\n\n#1790 (Informative note for Unicode in EPUB accessibility)
 \nhttps://github.com/w3c/epub-specs/issues/1790\n\n#1791 (How to identify 
 WCAG A or AA with conformsto)\nhttps://github.com/w3c/epub-specs/issues/17
 91\n\n5. Any other business.\n\nEPUB accessibility specifications:\nhttps:
 //w3c.github.io/epub-specs/epub33/a11y/index.html\n\nTechniques:\nhttps://
 w3c.github.io/epub-specs/epub33/a11y-tech/index.html\n\nIssue tracker:\nht
 tps://github.com/w3c/epub-specs/issues?q=is%3Aopen+is%3Aissue+label%3ACat-
 Accessibility
STATUS:CONFIRMED
CREATED:20210908T063519Z
LAST-MODIFIED:20210908T063519Z
SEQUENCE:3
ORGANIZER;CN=W3C Calendar;PARTSTAT=ACCEPTED;ROLE=NON-PARTICIPANT:mailto:nor
 eply@w3.org
ATTENDEE;CUTYPE=GROUP;ROLE=OPT-PARTICIPANT;RSVP=FALSE;CN=EPUB 3 Working Gro
 up:mailto:public-epub-wg@w3.org
RECURRENCE-ID;TZID=America/New_York:20210909T100000
END:VEVENT
END:VCALENDAR
