BEGIN:VCALENDAR
VERSION:2.0
PRODID:-//Sabre//Sabre VObject 4.5.8//EN
CALSCALE:GREGORIAN
LAST-MODIFIED:20250605T105426Z
BEGIN:VTIMEZONE
TZID:Etc/UTC
BEGIN:STANDARD
DTSTART:20240611T140000
TZOFFSETFROM:+0000
TZOFFSETTO:+0000
TZNAME:UTC
END:STANDARD
END:VTIMEZONE
BEGIN:VEVENT
UID:26709987-3468-402b-8c9d-d9d1a724e589
DTSTAMP:20250605T105426Z
SUMMARY:SPARQL Task Force
DTSTART;TZID=Etc/UTC:20250606T140000
DTEND;TZID=Etc/UTC:20250606T150000
DESCRIPTION:https://www.w3.org/events/meetings/26709987-3468-402b-8c9d-d9d1
 a724e589/20250606T140000/\n\n\n\nAgenda\n\n1. Scribe?\n1. \n1.\n1. Topic f
 or next time
STATUS:CANCELLED
CREATED:20250605T105426Z
LAST-MODIFIED:20250605T105426Z
SEQUENCE:4
ORGANIZER;CN=W3C Calendar;PARTSTAT=ACCEPTED;ROLE=NON-PARTICIPANT:mailto:nor
 eply@w3.org
ATTENDEE;CUTYPE=GROUP;ROLE=OPT-PARTICIPANT;RSVP=FALSE;CN=RDF & SPARQL Worki
 ng Group:mailto:public-rdf-star-wg@w3.org
ATTENDEE;CUTYPE=GROUP;ROLE=OPT-PARTICIPANT;RSVP=FALSE;CN=SPARQL Task Force:
 mailto:noreply@w3.org
RECURRENCE-ID;TZID=Etc/UTC:20250606T140000
END:VEVENT
END:VCALENDAR
