BEGIN:VCALENDAR
VERSION:2.0
PRODID:-//Sabre//Sabre VObject 4.5.8//EN
CALSCALE:GREGORIAN
LAST-MODIFIED:20251217T164021Z
BEGIN:VTIMEZONE
TZID:America/New_York
X-MICROSOFT-CDO-TZID:10
BEGIN:STANDARD
DTSTART:20251102T060000
TZOFFSETFROM:-0400
TZOFFSETTO:-0500
TZNAME:EST
END:STANDARD
BEGIN:STANDARD
DTSTART:20261101T060000
TZOFFSETFROM:-0400
TZOFFSETTO:-0500
TZNAME:EST
END:STANDARD
BEGIN:DAYLIGHT
DTSTART:20260308T070000
TZOFFSETFROM:-0500
TZOFFSETTO:-0400
TZNAME:EDT
END:DAYLIGHT
END:VTIMEZONE
BEGIN:VEVENT
UID:25ca82a7-d7fa-4fe4-912e-2b23073a5afb
DTSTAMP:20251217T164021Z
SUMMARY:WebAppSec WG monthly
DTSTART;TZID=America/New_York:20260819T120000
DTEND;TZID=America/New_York:20260819T130000
DESCRIPTION:https://www.w3.org/events/meetings/25ca82a7-d7fa-4fe4-912e-2b23
 073a5afb/20260819T120000/\n\n[Live minutes](https://pad.w3.org/p/WebAppSec
 _2026-01-21)\n\nAgenda: https://www.w3.org/Search/Mail/Public/search?keywo
 rds=&hdr-1-name=subject&hdr-1-query=agenda&index-grp=Public_FULL&index-typ
 e=t&type-index=public-webappsec
STATUS:CONFIRMED
CREATED:20250916T071804Z
LAST-MODIFIED:20251217T164021Z
SEQUENCE:6
ORGANIZER;CN=W3C Calendar;PARTSTAT=ACCEPTED;ROLE=NON-PARTICIPANT:mailto:nor
 eply@w3.org
ATTENDEE;CUTYPE=GROUP;ROLE=OPT-PARTICIPANT;RSVP=FALSE;CN=Web Application Se
 curity Working Group:mailto:public-webappsec@w3.org
RECURRENCE-ID;TZID=America/New_York:20260819T120000
END:VEVENT
END:VCALENDAR
