BEGIN:VCALENDAR
VERSION:2.0
PRODID:-//Sabre//Sabre VObject 4.5.8//EN
CALSCALE:GREGORIAN
LAST-MODIFIED:20251209T180109Z
BEGIN:VTIMEZONE
TZID:Etc/UTC
BEGIN:STANDARD
DTSTART:20241214T160000
TZOFFSETFROM:+0000
TZOFFSETTO:+0000
TZNAME:UTC
END:STANDARD
END:VTIMEZONE
BEGIN:VEVENT
UID:25c867fb-0923-4080-af2b-e00dd4a2444d
DTSTAMP:20251209T180109Z
SUMMARY:WebRTC WG December 2025 call
DTSTART;TZID=Etc/UTC:20251209T160000
DTEND;TZID=Etc/UTC:20251209T180000
DESCRIPTION:https://www.w3.org/events/meetings/25c867fb-0923-4080-af2b-e00d
 d4a2444d/\n\n\n\nAgenda: https://www.w3.org/2011/04/webrtc/wiki/December_9
 _2025
STATUS:TENTATIVE
CREATED:20250723T062416Z
LAST-MODIFIED:20251209T180109Z
SEQUENCE:1
ORGANIZER;CN=W3C Calendar;PARTSTAT=ACCEPTED;ROLE=NON-PARTICIPANT:mailto:nor
 eply@w3.org
ATTENDEE;CUTYPE=GROUP;ROLE=OPT-PARTICIPANT;RSVP=FALSE;CN=Web Real-Time Comm
 unications Working Group:mailto:public-webrtc@w3.org
END:VEVENT
END:VCALENDAR
