BEGIN:VCALENDAR
VERSION:2.0
PRODID:-//Sabre//Sabre VObject 4.5.8//EN
CALSCALE:GREGORIAN
LAST-MODIFIED:20240927T140949Z
BEGIN:VTIMEZONE
TZID:America/Los_Angeles
X-MICROSOFT-CDO-TZID:13
BEGIN:STANDARD
DTSTART:20231105T090000
TZOFFSETFROM:-0700
TZOFFSETTO:-0800
TZNAME:PST
END:STANDARD
BEGIN:STANDARD
DTSTART:20241103T090000
TZOFFSETFROM:-0700
TZOFFSETTO:-0800
TZNAME:PST
END:STANDARD
BEGIN:DAYLIGHT
DTSTART:20240310T100000
TZOFFSETFROM:-0800
TZOFFSETTO:-0700
TZNAME:PDT
END:DAYLIGHT
END:VTIMEZONE
BEGIN:VEVENT
UID:25b6f567-2d0d-4dee-9b9b-5906fd555aba
DTSTAMP:20240927T140949Z
SUMMARY:Verifiable Credentials Working Group
DTSTART;TZID=America/Los_Angeles:20240926T090000
DTEND;TZID=America/Los_Angeles:20240926T123000
DESCRIPTION:https://www.w3.org/events/meetings/25b6f567-2d0d-4dee-9b9b-5906
 fd555aba/\n\n\n\nAgenda\n\n9:00\nChairs Introduction and logistics\n9:45\n
 VC Data Model 2.0\n10:30\nBreak\n11:00\nVC Data Integrity
STATUS:CONFIRMED
CREATED:20240614T161648Z
LAST-MODIFIED:20240927T140949Z
SEQUENCE:7
ORGANIZER;CN=W3C Calendar;PARTSTAT=ACCEPTED;ROLE=NON-PARTICIPANT:mailto:nor
 eply@w3.org
ATTENDEE;CUTYPE=GROUP;ROLE=OPT-PARTICIPANT;RSVP=FALSE;CN=Verifiable Credent
 ials Working Group:mailto:public-vc-wg@w3.org
LOCATION:4 Concourse Level - Capistrano
CATEGORIES:TPAC 2024,Group Meetings
END:VEVENT
END:VCALENDAR
