BEGIN:VCALENDAR
VERSION:2.0
PRODID:-//Sabre//Sabre VObject 4.5.8//EN
CALSCALE:GREGORIAN
LAST-MODIFIED:20240725T073826Z
BEGIN:VTIMEZONE
TZID:Etc/UTC
BEGIN:STANDARD
DTSTART:20230801T150000
TZOFFSETFROM:+0000
TZOFFSETTO:+0000
TZNAME:UTC
END:STANDARD
END:VTIMEZONE
BEGIN:VEVENT
UID:25477780-7b27-4509-a0c7-9e5e91a2158a
DTSTAMP:20240725T073826Z
SUMMARY:WebView CG Meeting
DTSTART;TZID=Etc/UTC:20240726T150000
DTEND;TZID=Etc/UTC:20240726T160000
DESCRIPTION:https://www.w3.org/events/meetings/25477780-7b27-4509-a0c7-9e5e
 91a2158a/\n\nRecurring CG meeting on a monthly basis.
STATUS:CANCELLED
CREATED:20240723T061714Z
LAST-MODIFIED:20240725T073826Z
SEQUENCE:3
ORGANIZER;CN=W3C Calendar;PARTSTAT=ACCEPTED;ROLE=NON-PARTICIPANT:mailto:nor
 eply@w3.org
ATTENDEE;CUTYPE=GROUP;ROLE=OPT-PARTICIPANT;RSVP=FALSE;CN=WebView Community 
 Group:mailto:public-webview@w3.org
END:VEVENT
END:VCALENDAR
