BEGIN:VCALENDAR
VERSION:2.0
PRODID:-//Sabre//Sabre VObject 4.5.8//EN
CALSCALE:GREGORIAN
LAST-MODIFIED:20220830T090458Z
BEGIN:VTIMEZONE
TZID:Etc/UTC
BEGIN:STANDARD
DTSTART:20210911T130000
TZOFFSETFROM:+0000
TZOFFSETTO:+0000
TZNAME:UTC
END:STANDARD
END:VTIMEZONE
BEGIN:VEVENT
UID:243c41c3-0326-40c2-b3ad-5fe640dddb11
DTSTAMP:20220830T090458Z
SUMMARY:Games Community Group - September 2022 - Open web games directory
DTSTART;TZID=Etc/UTC:20220906T130000
DTEND;TZID=Etc/UTC:20220906T140000
DESCRIPTION:https://www.w3.org/events/meetings/243c41c3-0326-40c2-b3ad-5fe6
 40dddb11/\n\nThe Games Community Group has discussed web games discoverabi
 lity in the past\, see e.g. minutes from October 2020 meeting [1].\n\nGoal
  of this call is to revisit and discuss the possibility to build an open w
 eb games directory. Tom and Noël will share thoughts and a proposal as in
 put for the discussion.\n\n[1] https://docs.google.com/document/d/1CQtWyYP
 OjLy7np7SW-exbW20SXv61YaStBBVi042oHc/edit#heading=h.o5wrq31p3779
STATUS:CONFIRMED
CREATED:20220830T090457Z
LAST-MODIFIED:20220830T090458Z
SEQUENCE:0
ORGANIZER;CN=W3C Calendar;PARTSTAT=ACCEPTED;ROLE=NON-PARTICIPANT:mailto:nor
 eply@w3.org
ATTENDEE;CUTYPE=GROUP;ROLE=OPT-PARTICIPANT;RSVP=FALSE;CN=Games Community Gr
 oup:mailto:public-games@w3.org
END:VEVENT
END:VCALENDAR
