BEGIN:VCALENDAR
VERSION:2.0
PRODID:-//Sabre//Sabre VObject 4.5.8//EN
CALSCALE:GREGORIAN
LAST-MODIFIED:20251103T174227Z
BEGIN:VTIMEZONE
TZID:Asia/Tokyo
X-MICROSOFT-CDO-TZID:20
BEGIN:STANDARD
DTSTART:20241116T004500
TZOFFSETFROM:+0900
TZOFFSETTO:+0900
TZNAME:JST
END:STANDARD
END:VTIMEZONE
BEGIN:VEVENT
UID:23cc79d9-d1d2-4cab-9f54-2b3d7bc13633
DTSTAMP:20251103T174227Z
SUMMARY:Web Payments Working Group
DTSTART;TZID=Asia/Tokyo:20251111T094500
DTEND;TZID=Asia/Tokyo:20251111T160000
DESCRIPTION:https://www.w3.org/events/meetings/23cc79d9-d1d2-4cab-9f54-2b3d
 7bc13633/\n\n\n\nAgenda: https://github.com/w3c/webpayments/wiki/Agenda%E2
 %80%90TPAC2025
STATUS:CONFIRMED
CREATED:20250716T141909Z
LAST-MODIFIED:20251103T174227Z
SEQUENCE:8
ORGANIZER;CN=W3C Calendar;PARTSTAT=ACCEPTED;ROLE=NON-PARTICIPANT:mailto:nor
 eply@w3.org
ATTENDEE;CUTYPE=GROUP;ROLE=OPT-PARTICIPANT;RSVP=FALSE;CN=Web Payments Worki
 ng Group:mailto:public-payments-wg@w3.org
LOCATION:Floor 5 - 502
CATEGORIES:TPAC 2025,Group Meetings
END:VEVENT
END:VCALENDAR
