BEGIN:VCALENDAR
VERSION:2.0
PRODID:-//Sabre//Sabre VObject 4.5.8//EN
CALSCALE:GREGORIAN
LAST-MODIFIED:20240926T224116Z
BEGIN:VTIMEZONE
TZID:America/Los_Angeles
X-MICROSOFT-CDO-TZID:13
BEGIN:STANDARD
DTSTART:20231105T090000
TZOFFSETFROM:-0700
TZOFFSETTO:-0800
TZNAME:PST
END:STANDARD
BEGIN:STANDARD
DTSTART:20241103T090000
TZOFFSETFROM:-0700
TZOFFSETTO:-0800
TZNAME:PST
END:STANDARD
BEGIN:DAYLIGHT
DTSTART:20240310T100000
TZOFFSETFROM:-0800
TZOFFSETTO:-0700
TZNAME:PDT
END:DAYLIGHT
END:VTIMEZONE
BEGIN:VEVENT
UID:23533178-7423-4ffa-a962-896f86286453
DTSTAMP:20240926T224116Z
SUMMARY:Web Payment Security Interest Group
DTSTART;TZID=America/Los_Angeles:20240926T090000
DTEND;TZID=America/Los_Angeles:20240926T180000
DESCRIPTION:https://www.w3.org/events/meetings/23533178-7423-4ffa-a962-896f
 86286453/\n\n\n\nAgenda: https://www.w3.org/securepay/wiki/Meeting/Sep2024
STATUS:CONFIRMED
CREATED:20240614T161645Z
LAST-MODIFIED:20240926T224116Z
SEQUENCE:9
ORGANIZER;CN=W3C Calendar;PARTSTAT=ACCEPTED;ROLE=NON-PARTICIPANT:mailto:nor
 eply@w3.org
ATTENDEE;CUTYPE=GROUP;ROLE=OPT-PARTICIPANT;RSVP=FALSE;CN=Web Payment Securi
 ty Interest Group:mailto:member-wpsig@w3.org
LOCATION:4 Concourse Level - Oceanside
CATEGORIES:TPAC 2024,Group Meetings
END:VEVENT
END:VCALENDAR
