BEGIN:VCALENDAR
VERSION:2.0
PRODID:-//Sabre//Sabre VObject 4.5.8//EN
CALSCALE:GREGORIAN
LAST-MODIFIED:20251103T174520Z
BEGIN:VTIMEZONE
TZID:Asia/Tokyo
X-MICROSOFT-CDO-TZID:20
BEGIN:STANDARD
DTSTART:20241118T000000
TZOFFSETFROM:+0900
TZOFFSETTO:+0900
TZNAME:JST
END:STANDARD
END:VTIMEZONE
BEGIN:VEVENT
UID:22fb1b71-0623-4ffe-8c65-2ab9e7361f51
DTSTAMP:20251103T174520Z
SUMMARY:WebExtensions Community Group
DTSTART;TZID=Asia/Tokyo:20251113T090000
DTEND;TZID=Asia/Tokyo:20251113T150000
DESCRIPTION:https://www.w3.org/events/meetings/22fb1b71-0623-4ffe-8c65-2ab9
 e7361f51/\n\n\n\nAgenda: https://github.com/w3c/webextensions/issues/843
STATUS:CONFIRMED
CREATED:20250716T142358Z
LAST-MODIFIED:20251103T174520Z
SEQUENCE:9
ORGANIZER;CN=W3C Calendar;PARTSTAT=ACCEPTED;ROLE=NON-PARTICIPANT:mailto:nor
 eply@w3.org
ATTENDEE;CUTYPE=GROUP;ROLE=OPT-PARTICIPANT;RSVP=FALSE;CN=WebExtensions Comm
 unity Group:mailto:public-webextensions@w3.org
LOCATION:Floor 3 - 303
CATEGORIES:TPAC 2025,Group Meetings
END:VEVENT
END:VCALENDAR
