BEGIN:VCALENDAR
VERSION:2.0
PRODID:-//Sabre//Sabre VObject 4.5.8//EN
CALSCALE:GREGORIAN
LAST-MODIFIED:20221216T101302Z
BEGIN:VTIMEZONE
TZID:Etc/UTC
BEGIN:STANDARD
DTSTART:20211225T100000
TZOFFSETFROM:+0000
TZOFFSETTO:+0000
TZNAME:UTC
END:STANDARD
END:VTIMEZONE
BEGIN:VEVENT
UID:22f8fd43-080b-4e0e-993f-0728b7271a41
DTSTAMP:20221216T101302Z
SUMMARY:Open Athletics Virtual Meeting - December [Canceled]
DTSTART;TZID=Etc/UTC:20221220T100000
DTEND;TZID=Etc/UTC:20221220T110000
DESCRIPTION:https://www.w3.org/events/meetings/22f8fd43-080b-4e0e-993f-0728
 b7271a41/\n\nWe are canceling the meeting due to the most of the participa
 nts' Christmas leaves. We resume activities in January.\n\nAgenda: https:/
 /github.com/w3c/opentrack-cg/wiki/Meeting-2022-12-20#agenda
STATUS:CANCELLED
CREATED:20221115T094615Z
LAST-MODIFIED:20221216T101302Z
SEQUENCE:1
ORGANIZER;CN=W3C Calendar;PARTSTAT=ACCEPTED;ROLE=NON-PARTICIPANT:mailto:nor
 eply@w3.org
ATTENDEE;CUTYPE=GROUP;ROLE=OPT-PARTICIPANT;RSVP=FALSE;CN=OpenTrack Communit
 y Group:mailto:public-opentrack@w3.org
LOCATION:https://meet.jit.si/openathletics
END:VEVENT
END:VCALENDAR
