BEGIN:VCALENDAR
VERSION:2.0
PRODID:-//Sabre//Sabre VObject 4.5.8//EN
CALSCALE:GREGORIAN
LAST-MODIFIED:20250820T184917Z
BEGIN:VTIMEZONE
TZID:America/New_York
X-MICROSOFT-CDO-TZID:10
BEGIN:STANDARD
DTSTART:20241103T060000
TZOFFSETFROM:-0400
TZOFFSETTO:-0500
TZNAME:EST
END:STANDARD
BEGIN:STANDARD
DTSTART:20251102T060000
TZOFFSETFROM:-0400
TZOFFSETTO:-0500
TZNAME:EST
END:STANDARD
BEGIN:DAYLIGHT
DTSTART:20250309T070000
TZOFFSETFROM:-0500
TZOFFSETTO:-0400
TZNAME:EDT
END:DAYLIGHT
END:VTIMEZONE
BEGIN:VEVENT
UID:22c91c62-1c3f-4154-9a9f-da15c38f3b2f
DTSTAMP:20250820T184917Z
SUMMARY:JSON-LD WG and CG Meeting
DTSTART;TZID=America/New_York:20250820T120000
DTEND;TZID=America/New_York:20250820T125500
DESCRIPTION:https://www.w3.org/events/meetings/22c91c62-1c3f-4154-9a9f-da15
 c38f3b2f/\n\nThis will be a combined WG and CG meeting focused the ongoing
  re-chartering work happening at https://github.com/json-ld/json-ld-wg-cha
 rter\n\nAgenda\n\n1. Announcements and Introductions\n-------\n\n2. CBOR-L
 D\n-------\n\nDiscussing editor needs\, etc. around CBOR-LD.\n\n3. JSON-LD
  Rechartering\n-------\n\nWe will be continuing to review the work happeni
 ng on this PR:\nhttps://github.com/json-ld/json-ld-wg-charter/pull/10\n\n4
 .  Open Discussion\n-------\n\nOpen discussion and "Ask me Anything" on JS
 ON-LD topics.
STATUS:CONFIRMED
CREATED:20250820T150705Z
LAST-MODIFIED:20250820T184917Z
SEQUENCE:0
ORGANIZER;CN=W3C Calendar;PARTSTAT=ACCEPTED;ROLE=NON-PARTICIPANT:mailto:nor
 eply@w3.org
ATTENDEE;CUTYPE=GROUP;ROLE=OPT-PARTICIPANT;RSVP=FALSE;CN=JSON for Linked Da
 ta Community Group:mailto:public-json-ld@w3.org
ATTENDEE;CUTYPE=GROUP;ROLE=OPT-PARTICIPANT;RSVP=FALSE;CN=JSON-LD Working Gr
 oup:mailto:public-json-ld-wg@w3.org
END:VEVENT
END:VCALENDAR
