BEGIN:VCALENDAR
VERSION:2.0
PRODID:-//Sabre//Sabre VObject 4.5.8//EN
CALSCALE:GREGORIAN
LAST-MODIFIED:20251208T164738Z
BEGIN:VTIMEZONE
TZID:America/New_York
X-MICROSOFT-CDO-TZID:10
BEGIN:DAYLIGHT
DTSTART:20250309T070000
TZOFFSETFROM:-0500
TZOFFSETTO:-0400
TZNAME:EDT
END:DAYLIGHT
BEGIN:DAYLIGHT
DTSTART:20260308T070000
TZOFFSETFROM:-0500
TZOFFSETTO:-0400
TZNAME:EDT
END:DAYLIGHT
BEGIN:STANDARD
DTSTART:20251102T060000
TZOFFSETFROM:-0400
TZOFFSETTO:-0500
TZNAME:EST
END:STANDARD
END:VTIMEZONE
BEGIN:VEVENT
UID:22a219df-1882-4759-ba84-fd0b4ade9f21
DTSTAMP:20251208T164738Z
SUMMARY:W3C Process CG Call
DTSTART;TZID=America/New_York:20251224T100000
DTEND;TZID=America/New_York:20251224T110000
DESCRIPTION:https://www.w3.org/events/meetings/22a219df-1882-4759-ba84-fd0b
 4ade9f21/20251224T100000/\n\nCanceling due to Christmas holiday.
STATUS:CANCELLED
CREATED:20251208T164737Z
LAST-MODIFIED:20251208T164738Z
SEQUENCE:6
ORGANIZER;CN=W3C Calendar;PARTSTAT=ACCEPTED;ROLE=NON-PARTICIPANT:mailto:nor
 eply@w3.org
ATTENDEE;CUTYPE=GROUP;ROLE=OPT-PARTICIPANT;RSVP=FALSE;CN=W3C Process Commun
 ity Group:mailto:public-w3process@w3.org
RECURRENCE-ID;TZID=America/New_York:20251224T100000
END:VEVENT
END:VCALENDAR
