BEGIN:VCALENDAR
VERSION:2.0
PRODID:-//Sabre//Sabre VObject 4.5.8//EN
CALSCALE:GREGORIAN
LAST-MODIFIED:20251017T192632Z
BEGIN:VTIMEZONE
TZID:America/New_York
X-MICROSOFT-CDO-TZID:10
BEGIN:STANDARD
DTSTART:20241103T060000
TZOFFSETFROM:-0400
TZOFFSETTO:-0500
TZNAME:EST
END:STANDARD
BEGIN:STANDARD
DTSTART:20251102T060000
TZOFFSETFROM:-0400
TZOFFSETTO:-0500
TZNAME:EST
END:STANDARD
BEGIN:DAYLIGHT
DTSTART:20250309T070000
TZOFFSETFROM:-0500
TZOFFSETTO:-0400
TZNAME:EDT
END:DAYLIGHT
END:VTIMEZONE
BEGIN:VEVENT
UID:22a219df-1882-4759-ba84-fd0b4ade9f21
DTSTAMP:20251017T192632Z
SUMMARY:W3C Process CG Call
DTSTART;TZID=America/New_York:20251022T100000
DTEND;TZID=America/New_York:20251022T110000
DESCRIPTION:https://www.w3.org/events/meetings/22a219df-1882-4759-ba84-fd0b
 4ade9f21/20251022T100000/\n\n[Revising W3C Process](https://www.w3.org/com
 munity/w3process/): Examine the way W3C works. Propose improvements to the
  formal processes.\n\n* [Github w3c/w3process](https://github.com/w3c/w3pr
 ocess/blob/main/README.md): [issues](https://github.com/w3c/w3process/issu
 es)\, [pull requests](https://github.com/w3c/w3process/pulls)\, [monthly p
 ulse](https://github.com/w3c/w3process/pulse/monthly)\n* [W3C Process Draf
 t](https://www.w3.org/policies/process/drafts/)\n* [Mailing list](https://
 lists.w3.org/Archives/Public/public-w3process/)\n\nUsual meeting time: SEC
 OND and FOURTH WEDNESDAY OF THE MONTH AT 10AM ET.\n\nAgenda\n\n### Date an
 d Time:\nWednesday 22 Oct 2025\nTime: 10:00 AM Boston (60min)\nLocal date/
 time link: https://www.timeanddate.com/worldclock/fixedtime.html?msg=Proce
 ssCG+Meeting&iso=20251022T10&p1=43&ah=1\n\n### SPECIAL NOTE\, if any:\nNov
 ember 12 meeting is cancelled due to TPAC\n\n### Scribe list: \n\n\n### Me
 eting Chair:\nBrent Zundel\n\nTopic (time)\n1-Propose to Close Items [1] (
 10 min)\n2-Agenda+ Items [2] (20 min)\n3-Process Issue Triage [3] (25 min)
 \n\nLinks\n[1] https://github.com/w3c/process/issues?q=state%3Aopen%20labe
 l%3A%22Proposed%20to%20close%22\n[2] https://github.com/w3c/process/issues
 ?q=state%3Aopen%20label%3AAgenda%2B\n[3] https://github.com/w3c/process/is
 sues?q=is%3Aissue%20state%3Aopen%20sort%3Aupdated-asc\n\n### Issues marked
  propose to close:\nAs of the time this email was sent\, the following iss
 ues and PRs were marked 'propose to close':\n\nIssue 328: https://github.c
 om/w3c/process/issues/328\nIssue 409: https://github.com/w3c/process/issue
 s/409\nIssue 414: https://github.com/w3c/process/issues/414\nIssue 1033: h
 ttps://github.com/w3c/process/issues/1033\n\nFor an up to date list of the
  current set of 'propose to close' issues\, please see: \nhttps://github.c
 om/w3c/process/issues?q=is%3Aissue+is%3Aopen+sort%3Aupdated-asc+label%3A%2
 2proposed+to+close%22
STATUS:CONFIRMED
CREATED:20251017T192631Z
LAST-MODIFIED:20251017T192632Z
SEQUENCE:6
ORGANIZER;CN=W3C Calendar;PARTSTAT=ACCEPTED;ROLE=NON-PARTICIPANT:mailto:nor
 eply@w3.org
ATTENDEE;CUTYPE=GROUP;ROLE=OPT-PARTICIPANT;RSVP=FALSE;CN=W3C Process Commun
 ity Group:mailto:public-w3process@w3.org
RECURRENCE-ID;TZID=America/New_York:20251022T100000
END:VEVENT
END:VCALENDAR
