BEGIN:VCALENDAR
VERSION:2.0
PRODID:-//Sabre//Sabre VObject 4.5.8//EN
CALSCALE:GREGORIAN
LAST-MODIFIED:20250924T140208Z
BEGIN:VTIMEZONE
TZID:America/New_York
X-MICROSOFT-CDO-TZID:10
BEGIN:STANDARD
DTSTART:20241103T060000
TZOFFSETFROM:-0400
TZOFFSETTO:-0500
TZNAME:EST
END:STANDARD
BEGIN:STANDARD
DTSTART:20251102T060000
TZOFFSETFROM:-0400
TZOFFSETTO:-0500
TZNAME:EST
END:STANDARD
BEGIN:DAYLIGHT
DTSTART:20250309T070000
TZOFFSETFROM:-0500
TZOFFSETTO:-0400
TZNAME:EDT
END:DAYLIGHT
END:VTIMEZONE
BEGIN:VEVENT
UID:22a219df-1882-4759-ba84-fd0b4ade9f21
DTSTAMP:20250924T140208Z
SUMMARY:W3C Process CG Call
DTSTART;TZID=America/New_York:20250924T100000
DTEND;TZID=America/New_York:20250924T110000
DESCRIPTION:https://www.w3.org/events/meetings/22a219df-1882-4759-ba84-fd0b
 4ade9f21/20250924T100000/\n\n[Revising W3C Process](https://www.w3.org/com
 munity/w3process/): Examine the way W3C works. Propose improvements to the
  formal processes.\n\n* [Github w3c/w3process](https://github.com/w3c/w3pr
 ocess/blob/main/README.md): [issues](https://github.com/w3c/w3process/issu
 es)\, [pull requests](https://github.com/w3c/w3process/pulls)\, [monthly p
 ulse](https://github.com/w3c/w3process/pulse/monthly)\n* [W3C Process Draf
 t](https://www.w3.org/policies/process/drafts/)\n* [Mailing list](https://
 lists.w3.org/Archives/Public/public-w3process/)\n\nUsual meeting time: SEC
 OND and FOURTH WEDNESDAY OF THE MONTH AT 10AM ET.\n\nAgenda\n\n1- [Open Pr
 ocess PRS](https://github.com/w3c/process/pulls?q=is%3Apr+is%3Aopen+sort%3
 Aupdated-asc) (25 min)\n2- [Process Issue Triage](https://github.com/w3c/p
 rocess/issues?q=is%3Aissue%20state%3Aopen%20sort%3Aupdated-asc) (30 min)\n
 \n### Issues marked propose to close:\nAs of the time this email was sent\
 , the following issues and PRs were marked 'propose to close':\n\nThere ar
 e no pending close issues\n\nSee also an [up to date list of the current s
 et of 'propose to close' issues](https://github.com/w3c/process/issues?q=i
 s%3Aissue+is%3Aopen+sort%3Aupdated-asc+label%3A%22proposed+to+close%22)
STATUS:CONFIRMED
CREATED:20250922T222948Z
LAST-MODIFIED:20250924T140208Z
SEQUENCE:6
ORGANIZER;CN=W3C Calendar;PARTSTAT=ACCEPTED;ROLE=NON-PARTICIPANT:mailto:nor
 eply@w3.org
ATTENDEE;CUTYPE=GROUP;ROLE=OPT-PARTICIPANT;RSVP=FALSE;CN=W3C Process Commun
 ity Group:mailto:public-w3process@w3.org
RECURRENCE-ID;TZID=America/New_York:20250924T100000
END:VEVENT
END:VCALENDAR
