BEGIN:VCALENDAR
VERSION:2.0
PRODID:-//Sabre//Sabre VObject 4.5.8//EN
CALSCALE:GREGORIAN
LAST-MODIFIED:20220914T214504Z
BEGIN:VTIMEZONE
TZID:America/Vancouver
BEGIN:STANDARD
DTSTART:20211107T090000
TZOFFSETFROM:-0700
TZOFFSETTO:-0800
TZNAME:PST
END:STANDARD
BEGIN:STANDARD
DTSTART:20221106T090000
TZOFFSETFROM:-0700
TZOFFSETTO:-0800
TZNAME:PST
END:STANDARD
BEGIN:DAYLIGHT
DTSTART:20220313T100000
TZOFFSETFROM:-0800
TZOFFSETTO:-0700
TZNAME:PDT
END:DAYLIGHT
END:VTIMEZONE
BEGIN:VEVENT
UID:2190eee8-b2fa-4652-be78-b2cd2e74a9b8
DTSTAMP:20220914T214504Z
SUMMARY:Open UI update on style-able & extensible HTML controls/components
DTSTART;TZID=America/Vancouver:20220914T150000
DTEND;TZID=America/Vancouver:20220914T160000
DESCRIPTION:https://www.w3.org/events/meetings/2190eee8-b2fa-4652-be78-b2cd
 2e74a9b8/\n\nOne of the largest developer pain points is styling/modifying
  the content of the controls/components that ship natively with the user-a
 gent. Open UI will provide an update on the progress on new elements and p
 rimitives to improve this.\n\nAgenda\n\n**Facilitators & speakers**: Greg 
 Whitworth\, Mason Freed\, Brian Kardell\, Daniel Clark\n\n**Session type**
 : Talk\n\n**Summary**: One of the largest developer pain points is styling
 /modifying the content of the controls/components that ship natively with 
 the user-agent. Open UI will provide an update on the progress on new elem
 ents and primitives to improve this.\n\n**Goals**:\n- Give an overview of 
 Open UI it's goals and the progress over the past year.\n\nJoining Instruc
 tions: https://us02web.zoom.us/j/4415985829?pwd=cEJHcm95S1A2NEhPQXBycHZlZH
 pNUT09\n\nChat\n\nhttps://irc.w3.org/?channels=%23openui
STATUS:CONFIRMED
CREATED:20220909T111705Z
LAST-MODIFIED:20220914T214504Z
SEQUENCE:1
ORGANIZER;CN=W3C Calendar;PARTSTAT=ACCEPTED;ROLE=NON-PARTICIPANT:mailto:nor
 eply@w3.org
ATTENDEE;CN=Martin Alvarez-Espinar:mailto:martin.alvarez.espinar1@huawei.co
 m
ATTENDEE;CN=Matthew Atkinson:mailto:m.atkinson@samsung.com
ATTENDEE;CN=Leonardo Balter:mailto:leobalter@salesforce.com
ATTENDEE;CN=David Baron:mailto:dbaron@dbaron.org
ATTENDEE;CN=christin cai:mailto:christincai@tencent.com
ATTENDEE;CN=Daniel Clark:mailto:daniec@microsoft.com
ATTENDEE;CN=Emilio Cobos Álvarez:mailto:emilio@mozilla.com
ATTENDEE;CN=Michael Cooper:mailto:cooper-a11y@aihal.net
ATTENDEE;CN=Domenic Denicola:mailto:d@domenic.me
ATTENDEE;CN=Rob Eisenberg:mailto:rob@bluespire.com
ATTENDEE;CN=Elika Etemad:mailto:fantasai@inkedblade.net
ATTENDEE;CN=Mason Freed:mailto:masonfreed@google.com
ATTENDEE;CN=Brian Grinstead:mailto:bgrinstead@mozilla.com
ATTENDEE;CN=Chris Harrelson:mailto:chrishtr@google.com
ATTENDEE;CN=Daniel Holbert:mailto:dholbert@mozilla.com
ATTENDEE;CN=Brian Kardell:mailto:bkardell@gmail.com
ATTENDEE;CN=Cameron McCormack:mailto:heycam@apple.com
ATTENDEE;CN=James Nurthen:mailto:w3c@nurthen.com
ATTENDEE;CN=Wendy Reid:mailto:wendyreid@fastmail.com
ATTENDEE;CN=Cynthia Shelly:mailto:buphie@gmail.com
ATTENDEE;CN=Miriam Suzanne:mailto:miriam@oddbird.net
ATTENDEE;CN=Benjamin Young:mailto:byoung@bigbluehat.com
LOCATION:Junior B — North Tower 3rd floor
CATEGORIES:TPAC 2022,Breakout Sessions
END:VEVENT
END:VCALENDAR
