BEGIN:VCALENDAR
VERSION:2.0
PRODID:-//Sabre//Sabre VObject 4.5.8//EN
CALSCALE:GREGORIAN
LAST-MODIFIED:20240923T205828Z
BEGIN:VTIMEZONE
TZID:America/Los_Angeles
X-MICROSOFT-CDO-TZID:13
BEGIN:STANDARD
DTSTART:20231105T090000
TZOFFSETFROM:-0700
TZOFFSETTO:-0800
TZNAME:PST
END:STANDARD
BEGIN:STANDARD
DTSTART:20241103T090000
TZOFFSETFROM:-0700
TZOFFSETTO:-0800
TZNAME:PST
END:STANDARD
BEGIN:DAYLIGHT
DTSTART:20240310T100000
TZOFFSETFROM:-0800
TZOFFSETTO:-0700
TZNAME:PDT
END:DAYLIGHT
END:VTIMEZONE
BEGIN:VEVENT
UID:2162efdd-653e-43ab-8b91-6570e1791853
DTSTAMP:20240923T205828Z
SUMMARY:Web Payments Working Group
DTSTART;TZID=America/Los_Angeles:20240923T090000
DTEND;TZID=America/Los_Angeles:20240923T160000
DESCRIPTION:https://www.w3.org/events/meetings/2162efdd-653e-43ab-8b91-6570
 e1791853/\n\n\n\nAgenda: https://github.com/w3c/webpayments/wiki/Agenda-TP
 AC2024
STATUS:CONFIRMED
CREATED:20240614T161642Z
LAST-MODIFIED:20240923T205828Z
SEQUENCE:6
ORGANIZER;CN=W3C Calendar;PARTSTAT=ACCEPTED;ROLE=NON-PARTICIPANT:mailto:nor
 eply@w3.org
ATTENDEE;CUTYPE=GROUP;ROLE=OPT-PARTICIPANT;RSVP=FALSE;CN=Web Payments Worki
 ng Group:mailto:public-payments-wg@w3.org
LOCATION:4 Concourse Level - Huntington
CATEGORIES:TPAC 2024,Group Meetings
END:VEVENT
END:VCALENDAR
