BEGIN:VCALENDAR
VERSION:2.0
PRODID:-//Sabre//Sabre VObject 4.5.8//EN
CALSCALE:GREGORIAN
LAST-MODIFIED:20251208T164347Z
BEGIN:VTIMEZONE
TZID:America/New_York
X-MICROSOFT-CDO-TZID:10
BEGIN:DAYLIGHT
DTSTART:20250309T070000
TZOFFSETFROM:-0500
TZOFFSETTO:-0400
TZNAME:EDT
END:DAYLIGHT
BEGIN:DAYLIGHT
DTSTART:20260308T070000
TZOFFSETFROM:-0500
TZOFFSETTO:-0400
TZNAME:EDT
END:DAYLIGHT
BEGIN:STANDARD
DTSTART:20251102T060000
TZOFFSETFROM:-0400
TZOFFSETTO:-0500
TZNAME:EST
END:STANDARD
END:VTIMEZONE
BEGIN:VEVENT
UID:20c3c135-ef16-426a-99c5-c97af5ef6196
DTSTAMP:20251208T164347Z
SUMMARY:W3C Process CG Call
DTSTART;TZID=America/New_York:20251210T100000
DTEND;TZID=America/New_York:20251210T110000
DESCRIPTION:https://www.w3.org/events/meetings/20c3c135-ef16-426a-99c5-c97a
 f5ef6196/20251210T100000/\n\nCanceling meetings until January\n\nAgenda: h
 ttps://www.w3.org/Search/Mail/Public/search?keywords=&hdr-1-name=subject&h
 dr-1-query=Agenda&index-grp=Public_FULL&index-type=t&type-index=public-w3p
 rocess
STATUS:CANCELLED
CREATED:20251208T164346Z
LAST-MODIFIED:20251208T164347Z
SEQUENCE:3
ORGANIZER;CN=W3C Calendar;PARTSTAT=ACCEPTED;ROLE=NON-PARTICIPANT:mailto:nor
 eply@w3.org
ATTENDEE;CUTYPE=GROUP;ROLE=OPT-PARTICIPANT;RSVP=FALSE;CN=W3C Process Commun
 ity Group:mailto:public-w3process@w3.org
RECURRENCE-ID;TZID=America/New_York:20251210T100000
END:VEVENT
END:VCALENDAR
