BEGIN:VCALENDAR
VERSION:2.0
PRODID:-//Sabre//Sabre VObject 4.5.8//EN
CALSCALE:GREGORIAN
LAST-MODIFIED:20251003T205236Z
BEGIN:VTIMEZONE
TZID:America/New_York
X-MICROSOFT-CDO-TZID:10
BEGIN:STANDARD
DTSTART:20241103T060000
TZOFFSETFROM:-0400
TZOFFSETTO:-0500
TZNAME:EST
END:STANDARD
BEGIN:STANDARD
DTSTART:20251102T060000
TZOFFSETFROM:-0400
TZOFFSETTO:-0500
TZNAME:EST
END:STANDARD
BEGIN:DAYLIGHT
DTSTART:20250309T070000
TZOFFSETFROM:-0500
TZOFFSETTO:-0400
TZNAME:EDT
END:DAYLIGHT
END:VTIMEZONE
BEGIN:VEVENT
UID:20c3c135-ef16-426a-99c5-c97af5ef6196
DTSTAMP:20251003T205236Z
SUMMARY:W3C Process CG Call
DTSTART;TZID=America/New_York:20251008T100000
DTEND;TZID=America/New_York:20251008T110000
DESCRIPTION:https://www.w3.org/events/meetings/20c3c135-ef16-426a-99c5-c97a
 f5ef6196/20251008T100000/\n\n[Revising W3C Process](https://www.w3.org/com
 munity/w3process/): Examine the way W3C works. Propose improvements to the
  formal processes.\n\n* [Github w3c/w3process](https://github.com/w3c/w3pr
 ocess/blob/main/README.md): [issues](https://github.com/w3c/w3process/issu
 es)\, [pull requests](https://github.com/w3c/w3process/pulls)\, [monthly p
 ulse](https://github.com/w3c/w3process/pulse/monthly)\n* [W3C Process Draf
 t](https://www.w3.org/policies/process/drafts/)\n* [Mailing list](https://
 lists.w3.org/Archives/Public/public-w3process/)\n\nUsual meeting time: SEC
 OND and FOURTH WEDNESDAY OF THE MONTH AT 10AM ET.\n\nAgenda: https://www.w
 3.org/Search/Mail/Public/search?keywords=&hdr-1-name=subject&hdr-1-query=A
 genda&index-grp=Public_FULL&index-type=t&type-index=public-w3process\n\nAg
 enda\n\n### Date and Time:\nWednesday 08 Oct 2025\nTime: 10:00 AM Boston (
 60min)\nLocal date/time link: https://www.timeanddate.com/worldclock/fixed
 time.html?msg=ProcessCG+Meeting&iso=20251008T10&p1=43&ah=1\n\n### Meeting 
 Chair:\nBrent Zundel\n\nTopic (time)\n1-Propose to Close Items [1] (5 min)
 \n2-Agenda+ Items [2] (15 min)\n3-Open Process PRS [3] (15 min)\n4-Process
  Issue Triage [4] (20 min)\n\nLinks\n[1] https://github.com/w3c/process/is
 sues?q=state%3Aopen%20label%3A%22Proposed%20to%20close%22\n[2] https://git
 hub.com/w3c/process/issues?q=state%3Aopen%20label%3AAgenda%2B\n[3] https:/
 /github.com/w3c/process/pulls?q=is%3Apr+is%3Aopen+sort%3Aupdated-asc\n[4] 
 https://github.com/w3c/process/issues?q=is%3Aissue%20state%3Aopen%20sort%3
 Aupdated-asc\n\n### Issues marked propose to close:\nAs of the time this e
 mail was sent\, the following issues and PRs were marked 'propose to close
 ':\n\nIssue 1073: https://github.com/w3c/process/issues/1073\nIssue 1064: 
 https://github.com/w3c/process/issues/1064\nIssue 1044: https://github.com
 /w3c/process/issues/1044\nIssue 1006: https://github.com/w3c/process/issue
 s/1006\nIssue 963: https://github.com/w3c/process/issues/963\nIssue 946: h
 ttps://github.com/w3c/process/issues/946\nIssue 942: https://github.com/w3
 c/process/issues/942\nIssue 933: https://github.com/w3c/process/issues/933
 \nIssue 914: https://github.com/w3c/process/issues/914\nIssue 903: https:/
 /github.com/w3c/process/issues/903\nIssue 326: https://github.com/w3c/proc
 ess/issues/326\n\nFor an up to date list of the current set of 'propose to
  close' issues\, please see: \nhttps://github.com/w3c/process/issues?q=is%
 3Aissue+is%3Aopen+sort%3Aupdated-asc+label%3A%22proposed+to+close%22
STATUS:CONFIRMED
CREATED:20251003T205235Z
LAST-MODIFIED:20251003T205236Z
SEQUENCE:3
ORGANIZER;CN=W3C Calendar;PARTSTAT=ACCEPTED;ROLE=NON-PARTICIPANT:mailto:nor
 eply@w3.org
ATTENDEE;CUTYPE=GROUP;ROLE=OPT-PARTICIPANT;RSVP=FALSE;CN=W3C Process Commun
 ity Group:mailto:public-w3process@w3.org
RECURRENCE-ID;TZID=America/New_York:20251008T100000
END:VEVENT
END:VCALENDAR
