BEGIN:VCALENDAR
VERSION:2.0
PRODID:-//Sabre//Sabre VObject 4.5.8//EN
CALSCALE:GREGORIAN
LAST-MODIFIED:20230124T160518Z
BEGIN:VTIMEZONE
TZID:Etc/UTC
BEGIN:STANDARD
DTSTART:20220122T160000
TZOFFSETFROM:+0000
TZOFFSETTO:+0000
TZNAME:UTC
END:STANDARD
END:VTIMEZONE
BEGIN:VEVENT
UID:2067fc73-9cee-4e0b-a0e2-3335110676f8
DTSTAMP:20230124T160518Z
SUMMARY:WebRTC WG January 2023 call
DTSTART;TZID=Etc/UTC:20230117T160000
DTEND;TZID=Etc/UTC:20230117T180000
DESCRIPTION:https://www.w3.org/events/meetings/2067fc73-9cee-4e0b-a0e2-3335
 110676f8/\n\n\n\nAgenda: https://www.w3.org/2011/04/webrtc/wiki/January_17
 _2023
STATUS:CONFIRMED
CREATED:20220927T070325Z
LAST-MODIFIED:20230124T160518Z
SEQUENCE:2
ORGANIZER;CN=W3C Calendar;PARTSTAT=ACCEPTED;ROLE=NON-PARTICIPANT:mailto:nor
 eply@w3.org
ATTENDEE;CUTYPE=GROUP;ROLE=OPT-PARTICIPANT;RSVP=FALSE;CN=Web Real-Time Comm
 unications Working Group:mailto:public-webrtc@w3.org
END:VEVENT
END:VCALENDAR
