BEGIN:VCALENDAR
VERSION:2.0
PRODID:-//Sabre//Sabre VObject 4.5.8//EN
CALSCALE:GREGORIAN
LAST-MODIFIED:20260409T122856Z
BEGIN:VTIMEZONE
TZID:Etc/UTC
BEGIN:STANDARD
DTSTART:20250920T150000
TZOFFSETFROM:+0000
TZOFFSETTO:+0000
TZNAME:UTC
END:STANDARD
END:VTIMEZONE
BEGIN:VEVENT
UID:205e56ed-ccef-4b79-a2d2-8e21d56cc8ff
DTSTAMP:20260409T122856Z
SUMMARY:WebRTC WG September 2026 call
DTSTART;TZID=Etc/UTC:20260915T150000
DTEND;TZID=Etc/UTC:20260915T170000
DESCRIPTION:https://www.w3.org/events/meetings/205e56ed-ccef-4b79-a2d2-8e21
 d56cc8ff/\n\n
STATUS:TENTATIVE
CREATED:20260409T122856Z
LAST-MODIFIED:20260409T122856Z
SEQUENCE:0
ORGANIZER;CN=W3C Calendar;PARTSTAT=ACCEPTED;ROLE=NON-PARTICIPANT:mailto:nor
 eply@w3.org
ATTENDEE;CUTYPE=GROUP;ROLE=OPT-PARTICIPANT;RSVP=FALSE;CN=Web Real-Time Comm
 unications Working Group:mailto:public-webrtc@w3.org
END:VEVENT
END:VCALENDAR
