BEGIN:VCALENDAR
VERSION:2.0
PRODID:-//Sabre//Sabre VObject 4.5.8//EN
CALSCALE:GREGORIAN
LAST-MODIFIED:20230103T144349Z
BEGIN:VTIMEZONE
TZID:Etc/UTC
BEGIN:STANDARD
DTSTART:20211212T160000
TZOFFSETFROM:+0000
TZOFFSETTO:+0000
TZNAME:UTC
END:STANDARD
END:VTIMEZONE
BEGIN:VEVENT
UID:1f4a30dc-14d4-4798-a7b1-ff670cc45e13
DTSTAMP:20230103T144349Z
SUMMARY:WebRTC WG December 2022 call
DTSTART;TZID=Etc/UTC:20221207T160000
DTEND;TZID=Etc/UTC:20221207T180000
DESCRIPTION:https://www.w3.org/events/meetings/1f4a30dc-14d4-4798-a7b1-ff67
 0cc45e13/\n\n\n\nAgenda: https://www.w3.org/2011/04/webrtc/wiki/December_7
 _2022
STATUS:CONFIRMED
CREATED:20220919T095957Z
LAST-MODIFIED:20230103T144349Z
SEQUENCE:1
ORGANIZER;CN=W3C Calendar;PARTSTAT=ACCEPTED;ROLE=NON-PARTICIPANT:mailto:nor
 eply@w3.org
ATTENDEE;CUTYPE=GROUP;ROLE=OPT-PARTICIPANT;RSVP=FALSE;CN=Web Real-Time Comm
 unications Working Group:mailto:public-webrtc@w3.org
END:VEVENT
END:VCALENDAR
