BEGIN:VCALENDAR
VERSION:2.0
PRODID:-//Sabre//Sabre VObject 4.5.8//EN
CALSCALE:GREGORIAN
LAST-MODIFIED:20220113T233633Z
BEGIN:VTIMEZONE
TZID:America/Los_Angeles
X-MICROSOFT-CDO-TZID:13
BEGIN:DAYLIGHT
DTSTART:20210314T100000
TZOFFSETFROM:-0800
TZOFFSETTO:-0700
TZNAME:PDT
END:DAYLIGHT
BEGIN:DAYLIGHT
DTSTART:20220313T100000
TZOFFSETFROM:-0800
TZOFFSETTO:-0700
TZNAME:PDT
END:DAYLIGHT
BEGIN:STANDARD
DTSTART:20211107T090000
TZOFFSETFROM:-0700
TZOFFSETTO:-0800
TZNAME:PST
END:STANDARD
END:VTIMEZONE
BEGIN:VEVENT
UID:1f06f919-513f-4341-aa47-2027ee0925c5
DTSTAMP:20220113T233633Z
SUMMARY:Deep dive:  Secondary actions on items in composite widget roles
DTSTART;TZID=America/Los_Angeles:20220127T090000
DTEND;TZID=America/Los_Angeles:20220127T100000
DESCRIPTION:https://www.w3.org/events/meetings/1f06f919-513f-4341-aa47-2027
 ee0925c5/\n\nhttps://github.com/w3c/aria/issues/1440
STATUS:CONFIRMED
CREATED:20220113T233601Z
LAST-MODIFIED:20220113T233633Z
SEQUENCE:1
ORGANIZER;CN=W3C Calendar;PARTSTAT=ACCEPTED;ROLE=NON-PARTICIPANT:mailto:nor
 eply@w3.org
ATTENDEE;CUTYPE=GROUP;ROLE=OPT-PARTICIPANT;RSVP=FALSE;CN=Accessible Rich In
 ternet Applications Working Group:mailto:public-aria@w3.org
END:VEVENT
END:VCALENDAR
