BEGIN:VCALENDAR
VERSION:2.0
PRODID:-//Sabre//Sabre VObject 4.5.8//EN
CALSCALE:GREGORIAN
LAST-MODIFIED:20220104T072856Z
BEGIN:VTIMEZONE
TZID:Etc/UTC
BEGIN:STANDARD
DTSTART:20201129T180000
TZOFFSETFROM:+0000
TZOFFSETTO:+0000
TZNAME:UTC
END:STANDARD
END:VTIMEZONE
BEGIN:VEVENT
UID:1efe78ed-ddd2-4bfa-9250-00ee8429933f
DTSTAMP:20220104T072856Z
SUMMARY:WebRTC WG November 2021 call
DTSTART;TZID=Etc/UTC:20211124T180000
DTEND;TZID=Etc/UTC:20211124T200000
DESCRIPTION:https://www.w3.org/events/meetings/1efe78ed-ddd2-4bfa-9250-00ee
 8429933f/\n\n\n\nAgenda: https://www.w3.org/2011/04/webrtc/wiki/November_2
 4_2021
STATUS:CONFIRMED
CREATED:20211109T164512Z
LAST-MODIFIED:20220104T072856Z
SEQUENCE:2
ORGANIZER;CN=W3C Calendar;PARTSTAT=ACCEPTED;ROLE=NON-PARTICIPANT:mailto:nor
 eply@w3.org
ATTENDEE;CUTYPE=GROUP;ROLE=OPT-PARTICIPANT;RSVP=FALSE;CN=Web Real-Time Comm
 unications Working Group:mailto:public-webrtc@w3.org
END:VEVENT
END:VCALENDAR
