BEGIN:VCALENDAR
VERSION:2.0
PRODID:-//Sabre//Sabre VObject 4.5.8//EN
CALSCALE:GREGORIAN
LAST-MODIFIED:20230227T131206Z
BEGIN:VTIMEZONE
TZID:Etc/UTC
BEGIN:STANDARD
DTSTART:20220226T160000
TZOFFSETFROM:+0000
TZOFFSETTO:+0000
TZNAME:UTC
END:STANDARD
END:VTIMEZONE
BEGIN:VEVENT
UID:1efd0c85-ae5e-4a50-92e6-c50994412bab
DTSTAMP:20230227T131206Z
SUMMARY:WebRTC WG February 2023 call
DTSTART;TZID=Etc/UTC:20230221T160000
DTEND;TZID=Etc/UTC:20230221T180000
DESCRIPTION:https://www.w3.org/events/meetings/1efd0c85-ae5e-4a50-92e6-c509
 94412bab/\n\n\n\nAgenda: https://www.w3.org/2011/04/webrtc/wiki/February_2
 1_2023
STATUS:CONFIRMED
CREATED:20230103T080645Z
LAST-MODIFIED:20230227T131206Z
SEQUENCE:0
ORGANIZER;CN=W3C Calendar;PARTSTAT=ACCEPTED;ROLE=NON-PARTICIPANT:mailto:nor
 eply@w3.org
ATTENDEE;CUTYPE=GROUP;ROLE=OPT-PARTICIPANT;RSVP=FALSE;CN=Web Real-Time Comm
 unications Working Group:mailto:public-webrtc@w3.org
END:VEVENT
END:VCALENDAR
