BEGIN:VCALENDAR
VERSION:2.0
PRODID:-//Sabre//Sabre VObject 4.5.8//EN
CALSCALE:GREGORIAN
LAST-MODIFIED:20240819T234456Z
BEGIN:VTIMEZONE
TZID:America/New_York
X-MICROSOFT-CDO-TZID:10
BEGIN:STANDARD
DTSTART:20231105T060000
TZOFFSETFROM:-0400
TZOFFSETTO:-0500
TZNAME:EST
END:STANDARD
BEGIN:STANDARD
DTSTART:20241103T060000
TZOFFSETFROM:-0400
TZOFFSETTO:-0500
TZNAME:EST
END:STANDARD
BEGIN:DAYLIGHT
DTSTART:20240310T070000
TZOFFSETFROM:-0500
TZOFFSETTO:-0400
TZNAME:EDT
END:DAYLIGHT
END:VTIMEZONE
BEGIN:VEVENT
UID:1e84054f-011c-4201-8800-335c5a41e098
DTSTAMP:20240819T234456Z
SUMMARY:WebFonts WG Zoom call
DTSTART;TZID=America/New_York:20240820T120000
DTEND;TZID=America/New_York:20240820T130000
DESCRIPTION:https://www.w3.org/events/meetings/1e84054f-011c-4201-8800-335c
 5a41e098/20240820T120000/\n\nFolks\,\n\nSince our last WG call\, we had a 
 couple of new issues open\, and there are two new PRs (one open\, one clos
 ed) that addressed some additional spec changes. \nWe tentatively planned 
 to have the next Zoom call tomorrow - I suggest to postpone the call until
  next week (on Aug. 27) to collect additional agenda topics for discussion
 .\n\nThanks\,\nVlad\n\nAgenda\n\nNo agenda topics this week.
STATUS:CANCELLED
CREATED:20240819T234455Z
LAST-MODIFIED:20240819T234456Z
SEQUENCE:2
ORGANIZER;CN=W3C Calendar;PARTSTAT=ACCEPTED;ROLE=NON-PARTICIPANT:mailto:nor
 eply@w3.org
ATTENDEE;CUTYPE=GROUP;ROLE=OPT-PARTICIPANT;RSVP=FALSE;CN=Web Fonts Working 
 Group:mailto:public-webfonts-wg@w3.org
LOCATION:W3C Zoom facilities
RECURRENCE-ID;TZID=America/New_York:20240820T120000
END:VEVENT
END:VCALENDAR
