BEGIN:VCALENDAR
VERSION:2.0
PRODID:-//Sabre//Sabre VObject 4.5.8//EN
CALSCALE:GREGORIAN
LAST-MODIFIED:20250325T143224Z
BEGIN:VTIMEZONE
TZID:America/Los_Angeles
X-MICROSOFT-CDO-TZID:13
BEGIN:STANDARD
DTSTART:20241103T090000
TZOFFSETFROM:-0700
TZOFFSETTO:-0800
TZNAME:PST
END:STANDARD
BEGIN:STANDARD
DTSTART:20251102T090000
TZOFFSETFROM:-0700
TZOFFSETTO:-0800
TZNAME:PST
END:STANDARD
BEGIN:DAYLIGHT
DTSTART:20250309T100000
TZOFFSETFROM:-0800
TZOFFSETTO:-0700
TZNAME:PDT
END:DAYLIGHT
END:VTIMEZONE
BEGIN:VEVENT
UID:1d8ec672-fd32-40fd-9ddc-143bc3343493
DTSTAMP:20250325T143224Z
SUMMARY:W3C Process CG Call
DTSTART;TZID=America/Los_Angeles:20250326T080000
DTEND;TZID=America/Los_Angeles:20250326T090000
DESCRIPTION:https://www.w3.org/events/meetings/1d8ec672-fd32-40fd-9ddc-143b
 c3343493/20250326T070000/\n\n\n\nAgenda: https://lists.w3.org/Archives/Pub
 lic/public-w3process/2025Mar/0008.html\n\nAgenda\n\n1. [Facilitator not ex
 plicitly chair](https://github.com/w3c/process/pull/1002)\n1. [Drop wide r
 eview of charters from the Process](https://github.com/w3c/process/pull/10
 01)\n1. [Move details of how the Team evaluates charters to the guide](htt
 ps://github.com/w3c/process/pull/1000)\n1. [Drop unnecessary detail](https
 ://github.com/w3c/process/pull/999)\n1. [Drop unnecessary remarks about op
 tional communication](https://github.com/w3c/process/pull/998)\n1. [Allow 
 Team to step in when consensus cannot be found during Charter Refinement.]
 (https://github.com/w3c/process/pull/997)\n1. [Enable AB/TAG to remove one
  of their members](https://github.com/w3c/process/pull/986)
STATUS:CONFIRMED
CREATED:20250323T160134Z
LAST-MODIFIED:20250325T143224Z
SEQUENCE:4
ORGANIZER;CN=W3C Calendar;PARTSTAT=ACCEPTED;ROLE=NON-PARTICIPANT:mailto:nor
 eply@w3.org
ATTENDEE;CUTYPE=GROUP;ROLE=OPT-PARTICIPANT;RSVP=FALSE;CN=W3C Process Commun
 ity Group:mailto:public-w3process@w3.org
RECURRENCE-ID;TZID=America/Los_Angeles:20250326T070000
END:VEVENT
END:VCALENDAR
