BEGIN:VCALENDAR
VERSION:2.0
PRODID:-//Sabre//Sabre VObject 4.5.8//EN
CALSCALE:GREGORIAN
LAST-MODIFIED:20250225T154756Z
BEGIN:VTIMEZONE
TZID:America/Los_Angeles
X-MICROSOFT-CDO-TZID:13
BEGIN:DAYLIGHT
DTSTART:20240310T100000
TZOFFSETFROM:-0800
TZOFFSETTO:-0700
TZNAME:PDT
END:DAYLIGHT
BEGIN:DAYLIGHT
DTSTART:20250309T100000
TZOFFSETFROM:-0800
TZOFFSETTO:-0700
TZNAME:PDT
END:DAYLIGHT
BEGIN:STANDARD
DTSTART:20241103T090000
TZOFFSETFROM:-0700
TZOFFSETTO:-0800
TZNAME:PST
END:STANDARD
END:VTIMEZONE
BEGIN:VEVENT
UID:1d8ec672-fd32-40fd-9ddc-143bc3343493
DTSTAMP:20250225T154756Z
SUMMARY:W3C Process CG Call
DTSTART;TZID=America/Los_Angeles:20250226T070000
DTEND;TZID=America/Los_Angeles:20250226T080000
DESCRIPTION:https://www.w3.org/events/meetings/1d8ec672-fd32-40fd-9ddc-143b
 c3343493/20250226T070000/\n\nSee [latest Agenda post](https://www.w3.org/S
 earch/Mail/Public/search?keywords=&hdr-1-name=subject&hdr-1-query=Agenda&i
 ndex-grp=Public_FULL&index-type=t&type-index=public-w3process)\n\n[Revisin
 g W3C Process](https://www.w3.org/community/w3process/): Examine the way W
 3C works. Propose improvements to the formal processes.\n\n* [Github w3c/w
 3process](https://github.com/w3c/w3process/blob/main/README.md): [issues](
 https://github.com/w3c/w3process/issues)\, [pull requests](https://github.
 com/w3c/w3process/pulls)\, [monthly pulse](https://github.com/w3c/w3proces
 s/pulse/monthly)\n* [W3C Process Draft](https://www.w3.org/Consortium/Proc
 ess/Drafts/)\n* [Mailing list](https://lists.w3.org/Archives/Public/public
 -w3process/)\n\nUsual meeting time: SECOND and FOURTH WEDNESDAY OF THE MON
 TH AT 7AM PACIFIC.\n\nAgenda: https://lists.w3.org/Archives/Public/public-
 w3process/2025Feb/0001.html\n\nAgenda\n\n1. Update W3C mission [#990](http
 s://github.com/w3c/process/pull/990)\n2. [Ian's proposal for charter refin
 ements and AC Review](https://docs.google.com/document/d/1LlIuhhYknEirNVBm
 TR5BCZGIH3qetwO3qIQfd62UXHg/edit?pli=1&tab=t.9bimxanq2j2w)\n3. Use appeal 
 vote as escalation path for rejecting charter refinement [#991](https://gi
 thub.com/w3c/process/pull/991)\n4. Enable members to push for resuming an 
 abandoned charter refinement\n[#992](https://github.com/w3c/process/pull/9
 92)\n5. Phrasing / framing improvements on Chartering [#993](https://githu
 b.com/w3c/process/pull/993)
STATUS:CONFIRMED
CREATED:20250225T154442Z
LAST-MODIFIED:20250225T154756Z
SEQUENCE:3
ORGANIZER;CN=W3C Calendar;PARTSTAT=ACCEPTED;ROLE=NON-PARTICIPANT:mailto:nor
 eply@w3.org
ATTENDEE;CUTYPE=GROUP;ROLE=OPT-PARTICIPANT;RSVP=FALSE;CN=W3C Process Commun
 ity Group:mailto:public-w3process@w3.org
RECURRENCE-ID;TZID=America/Los_Angeles:20250226T070000
END:VEVENT
END:VCALENDAR
