BEGIN:VCALENDAR
VERSION:2.0
PRODID:-//Sabre//Sabre VObject 4.5.8//EN
CALSCALE:GREGORIAN
LAST-MODIFIED:20210623T050124Z
BEGIN:VTIMEZONE
TZID:America/New_York
X-MICROSOFT-CDO-TZID:10
BEGIN:STANDARD
DTSTART:20201101T060000
TZOFFSETFROM:-0400
TZOFFSETTO:-0500
TZNAME:EST
END:STANDARD
BEGIN:STANDARD
DTSTART:20211107T060000
TZOFFSETFROM:-0400
TZOFFSETTO:-0500
TZNAME:EST
END:STANDARD
BEGIN:DAYLIGHT
DTSTART:20210314T070000
TZOFFSETFROM:-0500
TZOFFSETTO:-0400
TZNAME:EDT
END:DAYLIGHT
END:VTIMEZONE
BEGIN:VEVENT
UID:1d223877-730c-446f-bfa9-2e9222902112
DTSTAMP:20210623T050124Z
SUMMARY:ARIA Working Group weekly meeting
DTSTART;TZID=America/New_York:20210624T130000
DTEND;TZID=America/New_York:20210624T140000
DESCRIPTION:https://www.w3.org/events/meetings/1d223877-730c-446f-bfa9-2e92
 22902112/20210624T130000/\n\n\n\nAgenda\n\n* [New Issue Triage](https://bi
 t.ly/3gV39P1)\n* [New PR Triage](https://bit.ly/3xJhnt5)\n* [Meaty topic f
 or next week](https://bit.ly/3j3Srsg)\n* Test Files - old test files in re
 po - https://github.com/w3c/aria/tree/main/testfiles. Do we need them stil
 l?\n* Getting tests written - https://joanmarie.github.io/aria/validator-t
 ests/
STATUS:CONFIRMED
CREATED:20210623T050124Z
LAST-MODIFIED:20210623T050124Z
SEQUENCE:1
ORGANIZER;CN=W3C Calendar;PARTSTAT=ACCEPTED;ROLE=NON-PARTICIPANT:mailto:nor
 eply@w3.org
ATTENDEE;CUTYPE=GROUP;ROLE=OPT-PARTICIPANT;RSVP=FALSE;CN=Accessible Rich In
 ternet Applications Working Group:mailto:public-aria@w3.org
RECURRENCE-ID;TZID=America/New_York:20210624T130000
END:VEVENT
END:VCALENDAR
