BEGIN:VCALENDAR
VERSION:2.0
PRODID:-//Sabre//Sabre VObject 4.5.8//EN
CALSCALE:GREGORIAN
LAST-MODIFIED:20210415T183328Z
BEGIN:VTIMEZONE
TZID:America/New_York
X-MICROSOFT-CDO-TZID:10
BEGIN:STANDARD
DTSTART:20201101T060000
TZOFFSETFROM:-0400
TZOFFSETTO:-0500
TZNAME:EST
END:STANDARD
BEGIN:STANDARD
DTSTART:20211107T060000
TZOFFSETFROM:-0400
TZOFFSETTO:-0500
TZNAME:EST
END:STANDARD
BEGIN:DAYLIGHT
DTSTART:20210314T070000
TZOFFSETFROM:-0500
TZOFFSETTO:-0400
TZNAME:EDT
END:DAYLIGHT
END:VTIMEZONE
BEGIN:VEVENT
UID:1d223877-730c-446f-bfa9-2e9222902112
DTSTAMP:20210415T183328Z
SUMMARY:ARIA Working Group weekly meeting
DTSTART;TZID=America/New_York:20210415T130000
DTEND;TZID=America/New_York:20210415T140000
DESCRIPTION:https://www.w3.org/events/meetings/1d223877-730c-446f-bfa9-2e92
 22902112/20210415T130000/\n\n\n\nAgenda\n\nagenda+ [New Issue Triage](http
 s://bit.ly/3uMyTv9)\n\nagenda+ [New PR Triage](https://bit.ly/3g9namu)\n\n
 agenda+ [Meaty topic for next week](https://bit.ly/2QqpnyL)\n\nagenda+ [Co
 nsider deleting aria-dropeffect and aria-grabbed](https://github.com/w3c/a
 ria/issues/1447)\n\nagenda+ [Suggested simplification](https://github.com/
 w3c/accname/issues/96)\n\nagenda+ [Add role=image as synonym for role=img]
 (https://github.com/w3c/aria/pull/1370)\n\nagenda+ [1.3 triage](https://bi
 t.ly/3wVub07)
STATUS:CONFIRMED
CREATED:20210414T002048Z
LAST-MODIFIED:20210415T183328Z
SEQUENCE:1
ORGANIZER;CN=W3C Calendar;PARTSTAT=ACCEPTED;ROLE=NON-PARTICIPANT:mailto:nor
 eply@w3.org
ATTENDEE;CUTYPE=GROUP;ROLE=OPT-PARTICIPANT;RSVP=FALSE;CN=Accessible Rich In
 ternet Applications Working Group:mailto:public-aria@w3.org
RECURRENCE-ID;TZID=America/New_York:20210415T130000
END:VEVENT
END:VCALENDAR
