BEGIN:VCALENDAR
VERSION:2.0
PRODID:-//Sabre//Sabre VObject 4.5.8//EN
CALSCALE:GREGORIAN
LAST-MODIFIED:20230831T163148Z
BEGIN:VTIMEZONE
TZID:America/Los_Angeles
X-MICROSOFT-CDO-TZID:13
BEGIN:STANDARD
DTSTART:20221106T090000
TZOFFSETFROM:-0700
TZOFFSETTO:-0800
TZNAME:PST
END:STANDARD
BEGIN:STANDARD
DTSTART:20231105T090000
TZOFFSETFROM:-0700
TZOFFSETTO:-0800
TZNAME:PST
END:STANDARD
BEGIN:DAYLIGHT
DTSTART:20230312T100000
TZOFFSETFROM:-0800
TZOFFSETTO:-0700
TZNAME:PDT
END:DAYLIGHT
END:VTIMEZONE
BEGIN:VEVENT
UID:1cc4723f-c539-4c9b-94d2-912bcc2598c9
DTSTAMP:20230831T163148Z
SUMMARY:WebExtensions CG
DTSTART;TZID=America/Los_Angeles:20230914T080000
DTEND;TZID=America/Los_Angeles:20230914T090000
DESCRIPTION:https://www.w3.org/events/meetings/1cc4723f-c539-4c9b-94d2-912b
 cc2598c9/20230914T080000/\n\nThe WebExtensions Community group meets virtu
 ally every other week for one hour to discuss issues of interest to the gr
 oup. These meetings are supplementary to the ongoing conversations in the 
 issue tracker.\n\nAgenda: https://docs.google.com/document/d/1QkwhEMtMS67J
 BUkl_WVPZ4lRSKoWcQNlLJSf_GwSXg8\n\nAgenda\n\nGithub issues: https://github
 .com/w3c/webextensions/issues\nAgenda: https://docs.google.com/document/d/
 1QkwhEMtMS67JBUkl_WVPZ4lRSKoWcQNlLJSf_GwSXg8\n\nPlease add yourself at the
  bottom of the Queue section if you have a discussion point.
STATUS:CONFIRMED
CREATED:20230831T163143Z
LAST-MODIFIED:20230831T163148Z
SEQUENCE:3
ORGANIZER;CN=W3C Calendar;PARTSTAT=ACCEPTED;ROLE=NON-PARTICIPANT:mailto:nor
 eply@w3.org
ATTENDEE;CUTYPE=GROUP;ROLE=OPT-PARTICIPANT;RSVP=FALSE;CN=WebExtensions Comm
 unity Group:mailto:public-webextensions@w3.org
RECURRENCE-ID;TZID=America/Los_Angeles:20230914T080000
END:VEVENT
END:VCALENDAR
