BEGIN:VCALENDAR
VERSION:2.0
PRODID:-//Sabre//Sabre VObject 4.5.8//EN
CALSCALE:GREGORIAN
LAST-MODIFIED:20241017T143126Z
BEGIN:VTIMEZONE
TZID:America/New_York
X-MICROSOFT-CDO-TZID:10
BEGIN:STANDARD
DTSTART:20231105T060000
TZOFFSETFROM:-0400
TZOFFSETTO:-0500
TZNAME:EST
END:STANDARD
BEGIN:STANDARD
DTSTART:20241103T060000
TZOFFSETFROM:-0400
TZOFFSETTO:-0500
TZNAME:EST
END:STANDARD
BEGIN:DAYLIGHT
DTSTART:20240310T070000
TZOFFSETFROM:-0500
TZOFFSETTO:-0400
TZNAME:EDT
END:DAYLIGHT
END:VTIMEZONE
BEGIN:VEVENT
UID:1ca159cb-f609-4873-a23c-885cbe8079ae
DTSTAMP:20241017T143126Z
SUMMARY:Privacy Interest Group (PING) 3rd-thursday
DTSTART;TZID=America/New_York:20241017T120000
DTEND;TZID=America/New_York:20241017T130000
DESCRIPTION:https://www.w3.org/events/meetings/1ca159cb-f609-4873-a23c-885c
 be8079ae/20241017T120000/\n\n\n\nAgenda: https://www.w3.org/Search/Mail/Pu
 blic/search?keywords=&hdr-1-name=subject&hdr-1-query=%22agenda+for%22&inde
 x-grp=Public_FULL&index-type=t&type-index=public-privacy
STATUS:CANCELLED
CREATED:20241014T172632Z
LAST-MODIFIED:20241017T143126Z
SEQUENCE:9
ORGANIZER;CN=W3C Calendar;PARTSTAT=ACCEPTED;ROLE=NON-PARTICIPANT:mailto:nor
 eply@w3.org
ATTENDEE;CUTYPE=GROUP;ROLE=OPT-PARTICIPANT;RSVP=FALSE;CN=Privacy Interest G
 roup:mailto:public-privacy@w3.org
RECURRENCE-ID;TZID=America/New_York:20241017T120000
END:VEVENT
END:VCALENDAR
