BEGIN:VCALENDAR
VERSION:2.0
PRODID:-//Sabre//Sabre VObject 4.5.8//EN
CALSCALE:GREGORIAN
LAST-MODIFIED:20220915T042956Z
BEGIN:VTIMEZONE
TZID:America/Vancouver
BEGIN:STANDARD
DTSTART:20211107T090000
TZOFFSETFROM:-0700
TZOFFSETTO:-0800
TZNAME:PST
END:STANDARD
BEGIN:STANDARD
DTSTART:20221106T090000
TZOFFSETFROM:-0700
TZOFFSETTO:-0800
TZNAME:PST
END:STANDARD
BEGIN:DAYLIGHT
DTSTART:20220313T100000
TZOFFSETFROM:-0800
TZOFFSETTO:-0700
TZNAME:PDT
END:DAYLIGHT
END:VTIMEZONE
BEGIN:VEVENT
UID:1c0e4736-d0cc-4ee3-8b2d-7eb1fbe59797
DTSTAMP:20220915T042956Z
SUMMARY:Cascading Style Sheets (CSS) Working Group including Joint meeting 
 with Accessible Platform Architectures Working Group
DTSTART;TZID=America/Vancouver:20220915T090000
DTEND;TZID=America/Vancouver:20220915T180000
DESCRIPTION:https://www.w3.org/events/meetings/1c0e4736-d0cc-4ee3-8b2d-7eb1
 fbe59797/\n\n\n\nAgenda: https://github.com/w3c/csswg-drafts/projects/31\n
 \nAgenda\n\nMorning break: 10:00-10:30 \nLunch: 12:30-13:30\nAfternoon bre
 ak: 15:00-15:30\n\nIssues will be placed in these time slots in the link a
 bove:\n\n9:00-10:00\n10:30-11:30 APA issues\n11:45-12:30\n1:30-3:00\n3:30-
 4:45\n5:00-6:00
STATUS:CONFIRMED
CREATED:20220610T054747Z
LAST-MODIFIED:20220915T042956Z
SEQUENCE:3
ORGANIZER;CN=W3C Calendar;PARTSTAT=ACCEPTED;ROLE=NON-PARTICIPANT:mailto:nor
 eply@w3.org
ATTENDEE;CUTYPE=GROUP;ROLE=OPT-PARTICIPANT;RSVP=FALSE;CN=Accessible Platfor
 m Architectures Working Group:mailto:public-apa@w3.org
ATTENDEE;CUTYPE=GROUP;ROLE=OPT-PARTICIPANT;RSVP=FALSE;CN=Cascading Style Sh
 eets (CSS) Working Group:mailto:www-style@w3.org
LOCATION:Junior CD - North Tower 3rd floor
CATEGORIES:TPAC 2022,Group Meetings
END:VEVENT
END:VCALENDAR
