BEGIN:VCALENDAR
VERSION:2.0
PRODID:-//Sabre//Sabre VObject 4.5.8//EN
CALSCALE:GREGORIAN
LAST-MODIFIED:20250604T153806Z
BEGIN:VTIMEZONE
TZID:America/New_York
X-MICROSOFT-CDO-TZID:10
BEGIN:STANDARD
DTSTART:20241103T060000
TZOFFSETFROM:-0400
TZOFFSETTO:-0500
TZNAME:EST
END:STANDARD
BEGIN:STANDARD
DTSTART:20251102T060000
TZOFFSETFROM:-0400
TZOFFSETTO:-0500
TZNAME:EST
END:STANDARD
BEGIN:DAYLIGHT
DTSTART:20250309T070000
TZOFFSETFROM:-0500
TZOFFSETTO:-0400
TZNAME:EDT
END:DAYLIGHT
END:VTIMEZONE
BEGIN:VEVENT
UID:1b4bbce3-f2ee-439f-a596-a5fc6e0d06c4
DTSTAMP:20250604T153806Z
SUMMARY:Privacy Working Group first-thursday
DTSTART;TZID=America/New_York:20250605T120000
DTEND;TZID=America/New_York:20250605T130000
DESCRIPTION:https://www.w3.org/events/meetings/1b4bbce3-f2ee-439f-a596-a5fc
 6e0d06c4/20250605T120000/\n\n\n\nAgenda: https://github.com/w3c/privacywg/
 labels/agenda\n\nAgenda\n\n1. Introductions\, Code of Conduct\n2. https://
 github.com/web-platform-tests/interop-privacy is working on review of [pri
 vacytests.org](https://privacytests.org/) @ChrisC \n3. Privacy reviews:\n 
    * [Chinese Web Interest Group](https://github.com/w3cping/privacy-reque
 st/issues/157)\n    * [WebAuthn](https://github.com/w3cping/privacy-reques
 t/issues/162) (@npdoty)\n    * update on Audio Playback Statistics (@pes10
 k)     \n    * Web Payments charter update / charter template updates\n   
  * volunteer needed: [DID 1.1](https://github.com/w3cping/privacy-request/
 issues/163)\n    * volunter needed: [APA charter](https://github.com/w3cpi
 ng/privacy-request/issues/164)\n4. localhost: further protections needed?\
 n    * https://localmess.github.io/\n6. TPAC meeting planning\n7. AOB
STATUS:CONFIRMED
CREATED:20250604T153806Z
LAST-MODIFIED:20250604T153806Z
SEQUENCE:5
ORGANIZER;CN=W3C Calendar;PARTSTAT=ACCEPTED;ROLE=NON-PARTICIPANT:mailto:nor
 eply@w3.org
ATTENDEE;CUTYPE=GROUP;ROLE=OPT-PARTICIPANT;RSVP=FALSE;CN=Privacy Working Gr
 oup:mailto:public-privacy@w3.org
RECURRENCE-ID;TZID=America/New_York:20250605T120000
END:VEVENT
END:VCALENDAR
