BEGIN:VCALENDAR
VERSION:2.0
PRODID:-//Sabre//Sabre VObject 4.5.8//EN
CALSCALE:GREGORIAN
LAST-MODIFIED:20230628T155538Z
BEGIN:VTIMEZONE
TZID:America/New_York
X-MICROSOFT-CDO-TZID:10
BEGIN:STANDARD
DTSTART:20221106T060000
TZOFFSETFROM:-0400
TZOFFSETTO:-0500
TZNAME:EST
END:STANDARD
BEGIN:STANDARD
DTSTART:20231105T060000
TZOFFSETFROM:-0400
TZOFFSETTO:-0500
TZNAME:EST
END:STANDARD
BEGIN:DAYLIGHT
DTSTART:20230312T070000
TZOFFSETFROM:-0500
TZOFFSETTO:-0400
TZNAME:EDT
END:DAYLIGHT
END:VTIMEZONE
BEGIN:VEVENT
UID:1ab7df94-bb06-440e-a6b9-bc9022018c57
DTSTAMP:20230628T155538Z
SUMMARY:JSON-LD CG Meeting
DTSTART;TZID=America/New_York:20230628T120000
DTEND;TZID=America/New_York:20230628T125500
DESCRIPTION:https://www.w3.org/events/meetings/1ab7df94-bb06-440e-a6b9-bc90
 22018c57/20230628T120000/\n\nDiscussion of outstanding JSON-LD issues\, YA
 ML-LD and related material.\n\nGeneral discussion about JSON-LD for anyone
  interested.\n\nAgenda\n\n1. Announcements and Introductions\n------------
 -------------------------\n\n2. YAML-LD\n------------\n\nPull Requests\n\n
 * json-ld/yaml-ld#94 – Unify examples\n\n3. JSON-LD Issue Discussion\n--
 ---------------------------\n\nhttps://github.com/orgs/w3c/projects/4\n\n(
 Note: WG policy is to merge PRs with no objections and editor's approval).
 \n\nPull Requests\n\n* w3c/json-ld-syntax#415 – Add structured suffix\n*
  w3c/json-ld-api#559 – Add JSON literal tests.\n* w3c/json-ld-api#566 
 – Fix context processing for reverse terms\n* w3c/json-ld-api#569 – Mi
 nor editorial rephrasing to clarify\n* w3c/json-ld-api#570 – Add similar
  id protected term redefinition test\n* w3c/json-ld-framing#146 – fixed 
 frame on type @json\n\n4. JSON-LD-star\n\nIssues\n\n* json-ld/json-ld-star
 #45 –  Keeping quoted triples sharing subject within one node object\n\n
 \n4. Open Discussion\n-------------------\n\nOpen discussion and "Ask me A
 nything" on JSON-LD topics.\n\n5. Next call\n---------------------\n\nNext
  call scheduled for July 12.
STATUS:CONFIRMED
CREATED:20230626T213452Z
LAST-MODIFIED:20230628T155538Z
SEQUENCE:2
ORGANIZER;CN=W3C Calendar;PARTSTAT=ACCEPTED;ROLE=NON-PARTICIPANT:mailto:nor
 eply@w3.org
ATTENDEE;CUTYPE=GROUP;ROLE=OPT-PARTICIPANT;RSVP=FALSE;CN=JSON for Linked Da
 ta Community Group:mailto:public-json-ld@w3.org
ATTENDEE;CUTYPE=GROUP;ROLE=OPT-PARTICIPANT;RSVP=FALSE;CN=JSON-LD Working Gr
 oup:mailto:public-json-ld-wg@w3.org
RECURRENCE-ID;TZID=America/New_York:20230628T120000
END:VEVENT
END:VCALENDAR
