BEGIN:VCALENDAR
VERSION:2.0
PRODID:-//Sabre//Sabre VObject 4.5.8//EN
CALSCALE:GREGORIAN
LAST-MODIFIED:20260219T073537Z
BEGIN:VTIMEZONE
TZID:Asia/Tokyo
X-MICROSOFT-CDO-TZID:20
BEGIN:STANDARD
DTSTART:20241115T080000
TZOFFSETFROM:+0900
TZOFFSETTO:+0900
TZNAME:JST
END:STANDARD
END:VTIMEZONE
BEGIN:VEVENT
UID:1a19962f-cbe5-42b9-8070-80d4209fd779
DTSTAMP:20260219T073537Z
SUMMARY:Declarative capability access
DTSTART;TZID=Asia/Tokyo:20251110T170000
DTEND;TZID=Asia/Tokyo:20251110T180000
DESCRIPTION:https://www.w3.org/events/meetings/1a19962f-cbe5-42b9-8070-80d4
 209fd779/\n\nhttps://github.com/WICG/PEPC/ (along with specific instantiat
 ions of the pattern in proposals like [`<geolocation>`](https://github.com
 /WICG/PEPC/blob/main/geolocation_explainer.md) and [`<install>`](https://g
 ithub.com/mikewest/pepc-install/)) suggests a declarative model for capabi
 lity access\, pushing away from a status quo in which developers trigger p
 rompts at will\, towards one in which users are more firmly in the drivers
 ' seat.\n\n**Goal(s):**\nIt would be lovely to discuss the capability mode
 l these proposals embody\, and how we might align on its application acros
 s a broader swath of the web's API surface.\n\nAgenda\n\n**Materials:**\n-
  [Session proposal on GitHub](https://github.com/w3c/tpac2025-breakouts/is
 sues/81)
STATUS:CONFIRMED
CREATED:20251028T131755Z
LAST-MODIFIED:20260219T073537Z
SEQUENCE:3
ORGANIZER;CN=W3C Calendar;PARTSTAT=ACCEPTED;ROLE=NON-PARTICIPANT:mailto:nor
 eply@w3.org
LOCATION:Floor 5 - 504
CATEGORIES:TPAC 2025,Breakout Sessions
END:VEVENT
END:VCALENDAR
