BEGIN:VCALENDAR
VERSION:2.0
PRODID:-//Sabre//Sabre VObject 4.5.8//EN
CALSCALE:GREGORIAN
LAST-MODIFIED:20260203T142704Z
BEGIN:VTIMEZONE
TZID:America/New_York
X-MICROSOFT-CDO-TZID:10
BEGIN:DAYLIGHT
DTSTART:20250309T070000
TZOFFSETFROM:-0500
TZOFFSETTO:-0400
TZNAME:EDT
END:DAYLIGHT
BEGIN:DAYLIGHT
DTSTART:20260308T070000
TZOFFSETFROM:-0500
TZOFFSETTO:-0400
TZNAME:EDT
END:DAYLIGHT
BEGIN:STANDARD
DTSTART:20251102T060000
TZOFFSETFROM:-0400
TZOFFSETTO:-0500
TZNAME:EST
END:STANDARD
END:VTIMEZONE
BEGIN:VEVENT
UID:1a0cb2ad-eb25-46af-9c3c-65783a7eb5d2
DTSTAMP:20260203T142704Z
SUMMARY:JSON-LD WG Meeting
DTSTART;TZID=America/New_York:20260204T120000
DTEND;TZID=America/New_York:20260204T130000
DESCRIPTION:https://www.w3.org/events/meetings/1a0cb2ad-eb25-46af-9c3c-6578
 3a7eb5d2/20260204T120000/\n\nThis will be an official WG meeting\, and we 
 will be discussing proposed changes and the status of the ongoing recharte
 ring document:\nhttps://github.com/w3c/json-ld-charter-2025\n\nAgenda\n\n1
 . Announcements and Introductions\n-------\n\n2. Jason Desrosiers on JSON 
 Schema\n-------\n\nOne more meet-and-greet before we get to work. \;) Jaso
 n will be on hand to share experiences with JSON Schema and more about pos
 sible team-ups between JSON Schema and JSON-LD.\n\n3. Planning the Plan\n-
 ------\n\nWe'll talk about our work mode\, how we hope to organize issues 
 across the repos\, and what our focus might be for the next 3-6 months (an
 d beyond).\n\n4. JSON-LD Issue Discussion and Organization\n-------\n\nRel
 ated to the earlier topic\, we'll discuss the project we've used to organi
 ze things in the past:\nhttps://github.com/orgs/w3c/projects/84\n\n5.  Ope
 n Discussion\n-------\n\nOpen discussion and "Ask Anything" on JSON-LD top
 ics.
STATUS:CONFIRMED
CREATED:20260203T142703Z
LAST-MODIFIED:20260203T142704Z
SEQUENCE:1
ORGANIZER;CN=W3C Calendar;PARTSTAT=ACCEPTED;ROLE=NON-PARTICIPANT:mailto:nor
 eply@w3.org
ATTENDEE;CUTYPE=GROUP;ROLE=OPT-PARTICIPANT;RSVP=FALSE;CN=JSON-LD Working Gr
 oup:mailto:public-json-ld-wg@w3.org
RECURRENCE-ID;TZID=America/New_York:20260204T120000
END:VEVENT
END:VCALENDAR
