BEGIN:VCALENDAR
VERSION:2.0
PRODID:-//Sabre//Sabre VObject 4.5.8//EN
CALSCALE:GREGORIAN
LAST-MODIFIED:20260126T220536Z
BEGIN:VTIMEZONE
TZID:America/New_York
X-MICROSOFT-CDO-TZID:10
BEGIN:DAYLIGHT
DTSTART:20250309T070000
TZOFFSETFROM:-0500
TZOFFSETTO:-0400
TZNAME:EDT
END:DAYLIGHT
BEGIN:DAYLIGHT
DTSTART:20260308T070000
TZOFFSETFROM:-0500
TZOFFSETTO:-0400
TZNAME:EDT
END:DAYLIGHT
BEGIN:STANDARD
DTSTART:20251102T060000
TZOFFSETFROM:-0400
TZOFFSETTO:-0500
TZNAME:EST
END:STANDARD
END:VTIMEZONE
BEGIN:VEVENT
UID:1a0cb2ad-eb25-46af-9c3c-65783a7eb5d2
DTSTAMP:20260126T220536Z
SUMMARY:JSON-LD WG/CG Meeting
DTSTART;TZID=America/New_York:20260128T120000
DTEND;TZID=America/New_York:20260128T130000
DESCRIPTION:https://www.w3.org/events/meetings/1a0cb2ad-eb25-46af-9c3c-6578
 3a7eb5d2/20260128T120000/\n\nThis will be an official WG meeting\, and we 
 will be discussing proposed changes and the status of the ongoing recharte
 ring document:\nhttps://github.com/w3c/json-ld-charter-2025\n\nAgenda\n\n1
 . Announcements and Introductions\n-------\n\n2. IIIF and Linked.Art\n----
 ---\n\nRob Sanderson will share a bit about the ongoing JSON-LD based proj
 ects [IIIF](https://iiif.io/) and [Linked.Art](https://linked.art).\n\n3. 
 JSON-LD extension to JSON Schema\n-------\n\n Roberto Polli will talk us t
 hrough the "REST API Linked Data Keywords" extension at https://github.com
 /ioggstream/draft-polli-restapi-ld-keywords\n\n4. Profile URLs? or Media T
 ypes?\n-------\n\nAaron Coburn of the [Linked Web Storage WG](https://www.
 w3.org/groups/wg/lws/) is dealing with the (perennial) question of whether
  to use profile URLs (as done in Web Annotation) or media types (as done i
 n Verifiable Credentials) when specifying a document format based on JSON-
 LD.\n\n5. Additional Community Meet & Greet\n-------\n\nWe've been invitin
 g various folks from around the community to join us on our January calls 
 to hear how things are going for them and where we might collectively find
  opportunities for collaboration. Hope to have you join us!\n\n6.  Open Di
 scussion\n-------\n\nOpen discussion and "Ask Anything" on JSON-LD topics.
STATUS:CONFIRMED
CREATED:20260116T180847Z
LAST-MODIFIED:20260126T220536Z
SEQUENCE:1
ORGANIZER;CN=W3C Calendar;PARTSTAT=ACCEPTED;ROLE=NON-PARTICIPANT:mailto:nor
 eply@w3.org
ATTENDEE;CUTYPE=GROUP;ROLE=OPT-PARTICIPANT;RSVP=FALSE;CN=JSON for Linked Da
 ta Community Group:mailto:public-json-ld@w3.org
ATTENDEE;CUTYPE=GROUP;ROLE=OPT-PARTICIPANT;RSVP=FALSE;CN=JSON-LD Working Gr
 oup:mailto:public-json-ld-wg@w3.org
RECURRENCE-ID;TZID=America/New_York:20260128T120000
END:VEVENT
END:VCALENDAR
