BEGIN:VCALENDAR
VERSION:2.0
PRODID:-//Sabre//Sabre VObject 4.5.8//EN
CALSCALE:GREGORIAN
LAST-MODIFIED:20260121T163857Z
BEGIN:VTIMEZONE
TZID:America/New_York
X-MICROSOFT-CDO-TZID:10
BEGIN:DAYLIGHT
DTSTART:20250309T070000
TZOFFSETFROM:-0500
TZOFFSETTO:-0400
TZNAME:EDT
END:DAYLIGHT
BEGIN:DAYLIGHT
DTSTART:20260308T070000
TZOFFSETFROM:-0500
TZOFFSETTO:-0400
TZNAME:EDT
END:DAYLIGHT
BEGIN:STANDARD
DTSTART:20251102T060000
TZOFFSETFROM:-0400
TZOFFSETTO:-0500
TZNAME:EST
END:STANDARD
END:VTIMEZONE
BEGIN:VEVENT
UID:1a0cb2ad-eb25-46af-9c3c-65783a7eb5d2
DTSTAMP:20260121T163857Z
SUMMARY:JSON-LD WG/CG Meeting
DTSTART;TZID=America/New_York:20260121T120000
DTEND;TZID=America/New_York:20260121T130000
DESCRIPTION:https://www.w3.org/events/meetings/1a0cb2ad-eb25-46af-9c3c-6578
 3a7eb5d2/20260121T120000/\n\nThis will be an official WG meeting\, and we 
 will be discussing proposed changes and the status of the ongoing recharte
 ring document:\nhttps://github.com/w3c/json-ld-charter-2025\n\nAgenda\n\n1
 . Announcements and Introductions\n-------\n\n2. Piotr Sowinski and the RD
 F Streaming WG work\n-------\n\nPiotr will be joining us to talk a bit abo
 ut the RDF Messages work in the RDF Streaming WG and how it relates to the
  NDJSON-LD work we've discussed here in the past.\n\n3. Ruben Taelman and 
 Comunica\n-------\n\nRuben will be joining us to talk about https://comuni
 ca.dev/ which is a knowledge graph querying framework providing flexible S
 PARQL and GraphQL querying over decentralized RDF on the Web.\n\n4. Commun
 ity Meet & Greet\n-------\n\nWe've been inviting various folks from around
  the community to join us on this (and our next January) call to hear how 
 things are going for them and where we might collectively find opportuniti
 es for collaboration. Hope to have you join us!\n\n5.  Open Discussion\n--
 -----\n\nOpen discussion and "Ask Anything" on JSON-LD topics.
STATUS:CONFIRMED
CREATED:20260116T180749Z
LAST-MODIFIED:20260121T163857Z
SEQUENCE:1
ORGANIZER;CN=W3C Calendar;PARTSTAT=ACCEPTED;ROLE=NON-PARTICIPANT:mailto:nor
 eply@w3.org
ATTENDEE;CUTYPE=GROUP;ROLE=OPT-PARTICIPANT;RSVP=FALSE;CN=JSON for Linked Da
 ta Community Group:mailto:public-json-ld@w3.org
ATTENDEE;CUTYPE=GROUP;ROLE=OPT-PARTICIPANT;RSVP=FALSE;CN=JSON-LD Working Gr
 oup:mailto:public-json-ld-wg@w3.org
RECURRENCE-ID;TZID=America/New_York:20260121T120000
END:VEVENT
END:VCALENDAR
