BEGIN:VCALENDAR
VERSION:2.0
PRODID:-//Sabre//Sabre VObject 4.5.8//EN
CALSCALE:GREGORIAN
LAST-MODIFIED:20230216T210604Z
BEGIN:VTIMEZONE
TZID:America/Los_Angeles
X-MICROSOFT-CDO-TZID:13
BEGIN:DAYLIGHT
DTSTART:20220313T100000
TZOFFSETFROM:-0800
TZOFFSETTO:-0700
TZNAME:PDT
END:DAYLIGHT
BEGIN:DAYLIGHT
DTSTART:20230312T100000
TZOFFSETFROM:-0800
TZOFFSETTO:-0700
TZNAME:PDT
END:DAYLIGHT
BEGIN:STANDARD
DTSTART:20221106T090000
TZOFFSETFROM:-0700
TZOFFSETTO:-0800
TZNAME:PST
END:STANDARD
END:VTIMEZONE
BEGIN:VEVENT
UID:19b84bff-ef2a-4777-870e-826f116c078e
DTSTAMP:20230216T210604Z
SUMMARY:ARIA and Assistive Technologies Community Group Weekly Teleconferen
 ce
DTSTART;TZID=America/Los_Angeles:20230216T120000
DTEND;TZID=America/Los_Angeles:20230216T130000
DESCRIPTION:https://www.w3.org/events/meetings/19b84bff-ef2a-4777-870e-826f
 116c078e/20230216T120000/\n\n\n\nAgenda\n\n1. Meeting time pole update\n1.
  Test running status update\n1. Backlog sizing update\n1. Status of site c
 hanges: Updating reports with latest data and marking plans as recommended
 \n1. Gathering pattern usage data for test plan prioritization
STATUS:CONFIRMED
CREATED:20230216T210604Z
LAST-MODIFIED:20230216T210604Z
SEQUENCE:3
ORGANIZER;CN=W3C Calendar;PARTSTAT=ACCEPTED;ROLE=NON-PARTICIPANT:mailto:nor
 eply@w3.org
ATTENDEE;CUTYPE=GROUP;ROLE=OPT-PARTICIPANT;RSVP=FALSE;CN=ARIA and Assistive
  Technologies Community Group:mailto:public-aria-at@w3.org
RECURRENCE-ID;TZID=America/Los_Angeles:20230216T120000
END:VEVENT
END:VCALENDAR
