BEGIN:VCALENDAR
VERSION:2.0
PRODID:-//Sabre//Sabre VObject 4.5.8//EN
CALSCALE:GREGORIAN
LAST-MODIFIED:20220914T160739Z
BEGIN:VTIMEZONE
TZID:America/Vancouver
BEGIN:STANDARD
DTSTART:20211107T090000
TZOFFSETFROM:-0700
TZOFFSETTO:-0800
TZNAME:PST
END:STANDARD
BEGIN:STANDARD
DTSTART:20221106T090000
TZOFFSETFROM:-0700
TZOFFSETTO:-0800
TZNAME:PST
END:STANDARD
BEGIN:DAYLIGHT
DTSTART:20220313T100000
TZOFFSETFROM:-0800
TZOFFSETTO:-0700
TZNAME:PDT
END:DAYLIGHT
END:VTIMEZONE
BEGIN:VEVENT
UID:1999960c-2599-4b2f-ac8f-10cb6388d5ed
DTSTAMP:20220914T160739Z
SUMMARY:Common Impact Data Standard
DTSTART;TZID=America/Vancouver:20220914T111500
DTEND;TZID=America/Vancouver:20220914T121500
DESCRIPTION:https://www.w3.org/events/meetings/1999960c-2599-4b2f-ac8f-10cb
 6388d5ed/\n\nAn introduction to the Common Impact Data Standard (CIDS)\, i
 ncluding an overview of the impact measurement space\, the social purpose 
 ecosystem and the challenges that CIDS is designed to solve. We will discu
 ss the technical specification and the possibility of a dedicated Working 
 Group.\n\nAgenda\n\n**Facilitators & speakers**: Alicia Richins\n\n**Sessi
 on type**: presentation + open discussion\n\n**Summary**: An introduction 
 to the Common Impact Data Standard (CIDS)\, including an overview of the i
 mpact measurement space\, the social purpose ecosystem and the challenges 
 that CIDS is designed to solve. We will discuss the technical specificatio
 n and the possibility of a dedicated Working Group.\n\n**Goals**:\n- Gathe
 ring input and feedback on the standard\;\n- Drumming up interest in our p
 roposed draft Working Group Charter\;\n- Identifying synergies with other 
 W3C work/groups\n\nJoining Instructions: https://us02web.zoom.us/j/6548158
 906?pwd=MFNTK1NQRmI5S1oxYzZyKzdkaE5WZz09\n\nChat\n\nhttps://irc.w3.org/?ch
 annels=%23cids
STATUS:CONFIRMED
CREATED:20220909T111655Z
LAST-MODIFIED:20220914T160739Z
SEQUENCE:1
ORGANIZER;CN=W3C Calendar;PARTSTAT=ACCEPTED;ROLE=NON-PARTICIPANT:mailto:nor
 eply@w3.org
ATTENDEE;CN=Martin Alvarez-Espinar:mailto:martin.alvarez.espinar1@huawei.co
 m
ATTENDEE;CN=Pierre-Antoine Champin:mailto:pierre-antoine@w3.org
ATTENDEE;CN=Nick Doty:mailto:ndoty@cdt.org
ATTENDEE;CN=Chris Lemmons:mailto:chris_lemmons@comcast.com
ATTENDEE;CN=Michael McCool:mailto:michael.d.mccool@gmail.com
ATTENDEE;CN=Cynthia Shelly:mailto:buphie@gmail.com
LOCATION:Port Hardy — North Tower 4th floor
CATEGORIES:TPAC 2022,Breakout Sessions
END:VEVENT
END:VCALENDAR
