BEGIN:VCALENDAR
VERSION:2.0
PRODID:-//Sabre//Sabre VObject 4.5.8//EN
CALSCALE:GREGORIAN
LAST-MODIFIED:20241120T072754Z
BEGIN:VTIMEZONE
TZID:Etc/UTC
BEGIN:STANDARD
DTSTART:20231125T160000
TZOFFSETFROM:+0000
TZOFFSETTO:+0000
TZNAME:UTC
END:STANDARD
END:VTIMEZONE
BEGIN:VEVENT
UID:18d87cad-ccd9-4d62-8ca5-362b48758d77
DTSTAMP:20241120T072754Z
SUMMARY:WebRTC WG November 2024 call
DTSTART;TZID=Etc/UTC:20241119T160000
DTEND;TZID=Etc/UTC:20241119T180000
DESCRIPTION:https://www.w3.org/events/meetings/18d87cad-ccd9-4d62-8ca5-362b
 48758d77/\n\n\n\nAgenda: https://www.w3.org/2011/04/webrtc/wiki/November_1
 9_2024
STATUS:CONFIRMED
CREATED:20240819T094224Z
LAST-MODIFIED:20241120T072754Z
SEQUENCE:1
ORGANIZER;CN=W3C Calendar;PARTSTAT=ACCEPTED;ROLE=NON-PARTICIPANT:mailto:nor
 eply@w3.org
ATTENDEE;CUTYPE=GROUP;ROLE=OPT-PARTICIPANT;RSVP=FALSE;CN=Web Real-Time Comm
 unications Working Group:mailto:public-webrtc@w3.org
END:VEVENT
END:VCALENDAR
