BEGIN:VCALENDAR
VERSION:2.0
PRODID:-//Sabre//Sabre VObject 4.5.8//EN
CALSCALE:GREGORIAN
LAST-MODIFIED:20211209T210802Z
BEGIN:VTIMEZONE
TZID:America/Toronto
BEGIN:STANDARD
DTSTART:20201101T060000
TZOFFSETFROM:-0400
TZOFFSETTO:-0500
TZNAME:EST
END:STANDARD
BEGIN:STANDARD
DTSTART:20211107T060000
TZOFFSETFROM:-0400
TZOFFSETTO:-0500
TZNAME:EST
END:STANDARD
BEGIN:STANDARD
DTSTART:20221106T060000
TZOFFSETFROM:-0400
TZOFFSETTO:-0500
TZNAME:EST
END:STANDARD
BEGIN:DAYLIGHT
DTSTART:20210314T070000
TZOFFSETFROM:-0500
TZOFFSETTO:-0400
TZNAME:EDT
END:DAYLIGHT
BEGIN:DAYLIGHT
DTSTART:20220313T070000
TZOFFSETFROM:-0500
TZOFFSETTO:-0400
TZNAME:EDT
END:DAYLIGHT
END:VTIMEZONE
BEGIN:VEVENT
UID:18991fcc-6efe-43b8-9131-3915d6b6f0b0
DTSTAMP:20210805T134847Z
SUMMARY:Virtual Locators TF
DTSTART;TZID=America/Toronto:20210820T100000
DTEND;TZID=America/Toronto:20210820T110000
DESCRIPTION:https://www.w3.org/events/meetings/18991fcc-6efe-43b8-9131-3915
 d6b6f0b0/\n\nTaskforce meeting for Virtual Locators. We are developing rec
 ommendations and best practices for the EPUB locations problem.
STATUS:CONFIRMED
CREATED:20210805T134845Z
LAST-MODIFIED:20210805T134847Z
SEQUENCE:0
ORGANIZER;CN=W3C Calendar;PARTSTAT=ACCEPTED;ROLE=NON-PARTICIPANT:mailto:nor
 eply@w3.org
ATTENDEE;CUTYPE=GROUP;ROLE=OPT-PARTICIPANT;RSVP=FALSE;CN=EPUB 3 Working Gro
 up:mailto:public-epub-wg@w3.org
LOCATION:https://mit.zoom.us/j/92468476393?pwd=Yk5ydXZqSTlla01PTkdlZVpuZ1lR
 dz09
RRULE:FREQ=WEEKLY;UNTIL=20220624T140000Z;INTERVAL=4;BYDAY=FR;WKST=MO
END:VEVENT
BEGIN:VEVENT
UID:18991fcc-6efe-43b8-9131-3915d6b6f0b0
DTSTAMP:20210917T150843Z
SUMMARY:Virtual Locators TF
DTSTART;TZID=America/Toronto:20210917T100000
DTEND;TZID=America/Toronto:20210917T110000
DESCRIPTION:https://www.w3.org/events/meetings/18991fcc-6efe-43b8-9131-3915
 d6b6f0b0/20210917T100000/\n\nTaskforce meeting for Virtual Locators. We ar
 e developing recommendations and best practices for the EPUB locations pro
 blem.
STATUS:CONFIRMED
CREATED:20210917T150843Z
LAST-MODIFIED:20210917T150843Z
SEQUENCE:0
ORGANIZER;CN=W3C Calendar;PARTSTAT=ACCEPTED;ROLE=NON-PARTICIPANT:mailto:nor
 eply@w3.org
ATTENDEE;CUTYPE=GROUP;ROLE=OPT-PARTICIPANT;RSVP=FALSE;CN=EPUB 3 Working Gro
 up:mailto:public-epub-wg@w3.org
LOCATION:https://mit.zoom.us/j/92468476393?pwd=Yk5ydXZqSTlla01PTkdlZVpuZ1lR
 dz09
RECURRENCE-ID;TZID=America/Toronto:20210917T100000
END:VEVENT
BEGIN:VEVENT
UID:18991fcc-6efe-43b8-9131-3915d6b6f0b0
DTSTAMP:20211209T210802Z
SUMMARY:Virtual Locators TF
DTSTART;TZID=America/Toronto:20211210T100000
DTEND;TZID=America/Toronto:20211210T110000
DESCRIPTION:https://www.w3.org/events/meetings/18991fcc-6efe-43b8-9131-3915
 d6b6f0b0/20211210T100000/\n\nCANCELLED: Due to a meeting conflict\, we are
  cancelling this meeting. \n\nTaskforce meeting for Virtual Locators. We a
 re developing recommendations and best practices for the EPUB locations pr
 oblem.
STATUS:CANCELLED
CREATED:20211209T210801Z
LAST-MODIFIED:20211209T210802Z
SEQUENCE:1
ORGANIZER;CN=W3C Calendar;PARTSTAT=ACCEPTED;ROLE=NON-PARTICIPANT:mailto:nor
 eply@w3.org
ATTENDEE;CUTYPE=GROUP;ROLE=OPT-PARTICIPANT;RSVP=FALSE;CN=EPUB 3 Working Gro
 up:mailto:public-epub-wg@w3.org
LOCATION:https://mit.zoom.us/j/92468476393?pwd=Yk5ydXZqSTlla01PTkdlZVpuZ1lR
 dz09
RECURRENCE-ID;TZID=America/Toronto:20211210T100000
END:VEVENT
END:VCALENDAR
