BEGIN:VCALENDAR
VERSION:2.0
PRODID:-//Sabre//Sabre VObject 4.5.8//EN
CALSCALE:GREGORIAN
LAST-MODIFIED:20260219T062305Z
BEGIN:VTIMEZONE
TZID:Asia/Tokyo
X-MICROSOFT-CDO-TZID:20
BEGIN:STANDARD
DTSTART:20241117T054500
TZOFFSETFROM:+0900
TZOFFSETTO:+0900
TZNAME:JST
END:STANDARD
END:VTIMEZONE
BEGIN:VEVENT
UID:17df0a07-99d8-4d4d-be2b-3e94c90c3ddf
DTSTAMP:20260219T062305Z
SUMMARY:W3C Threat Modeling Guide and the Threat Model for the Web
DTSTART;TZID=Asia/Tokyo:20251112T144500
DTEND;TZID=Asia/Tokyo:20251112T154500
DESCRIPTION:https://www.w3.org/events/meetings/17df0a07-99d8-4d4d-be2b-3e94
 c90c3ddf/\n\nAs required by the Security and Privacy Questionnaire for the
  Horizontal Review\, when writing security consideration sections that ref
 erence RFC 3552\, a threat model must be created and the specific elements
  exported to the Security Consideration sections (but this also applies to
  privacy\, and in general to harms as well).\nBut how can threat modeling 
 be done in a structured way in practice?\n\nThe Threat Modeling Guide answ
 ers this question in a practical way and includes a Threat Model for the W
 eb to speed up the work.\n\n**Goal(s):**\nThe idea is to present the guide
  and gather feedback.\n\nAgenda\n\n**Materials:**\n- [Session proposal on 
 GitHub](https://github.com/w3c/tpac2025-breakouts/issues/64)
STATUS:CONFIRMED
CREATED:20251028T131539Z
LAST-MODIFIED:20260219T062305Z
SEQUENCE:3
ORGANIZER;CN=W3C Calendar;PARTSTAT=ACCEPTED;ROLE=NON-PARTICIPANT:mailto:nor
 eply@w3.org
LOCATION:Floor 4 - 403
CATEGORIES:TPAC 2025,Breakout Sessions
END:VEVENT
END:VCALENDAR
