BEGIN:VCALENDAR
VERSION:2.0
PRODID:-//Sabre//Sabre VObject 4.5.8//EN
CALSCALE:GREGORIAN
LAST-MODIFIED:20250709T141225Z
BEGIN:VTIMEZONE
TZID:Europe/Dublin
BEGIN:DAYLIGHT
DTSTART:20241027T010000
TZOFFSETFROM:+0100
TZOFFSETTO:+0000
TZNAME:GMT
END:DAYLIGHT
BEGIN:DAYLIGHT
DTSTART:20251026T010000
TZOFFSETFROM:+0100
TZOFFSETTO:+0000
TZNAME:GMT
END:DAYLIGHT
BEGIN:STANDARD
DTSTART:20250330T010000
TZOFFSETFROM:+0000
TZOFFSETTO:+0100
TZNAME:IST
END:STANDARD
END:VTIMEZONE
BEGIN:VEVENT
UID:178d1c71-a92d-4da7-a196-6a89d0fe2277
DTSTAMP:20250709T141225Z
SUMMARY:DPVCG Meeting 10 JUL 2025
DTSTART;TZID=Europe/Dublin:20250710T133000
DTEND;TZID=Europe/Dublin:20250710T143000
DESCRIPTION:https://www.w3.org/events/meetings/178d1c71-a92d-4da7-a196-6a89
 d0fe2277/20250710T133000/\n\nThis is the weekly meeting for the DPVCG\n\nA
 genda: https://www.w3.org/events/meetings/178d1c71-a92d-4da7-a196-6a89d0fe
 2277/20250710T133000/\n\nAgenda\n\nPrevious minutes: https://w3id.org/dpv/
 meetings/meeting-2025-07-03\n\n# Weekly Meeting schedule\n\n- poll: https:
 //www.when2meet.com/?31247113-2tTGs (discussion JUL-10\, decision JUL-17)\
 n- email: https://lists.w3.org/Archives/Public/public-dpvcg/2025Jul/0002.h
 tml\n\n# v2.2 release\n\n- v2.2 see https://github.com/w3c/dpv/milestone/7
  \n- w3id changes & testing\n- timelines for review and release\n- volunte
 ers to review\n\n## v2.3\n\n- triage topics for priority & discussion\n- s
 ee https://github.com/w3c/dpv/milestone/9\n- tentative release date (of dr
 aft) is 01 December 2025\n\n- AOB
STATUS:CONFIRMED
CREATED:20250709T141224Z
LAST-MODIFIED:20250709T141225Z
SEQUENCE:1
ORGANIZER;CN=W3C Calendar;PARTSTAT=ACCEPTED;ROLE=NON-PARTICIPANT:mailto:nor
 eply@w3.org
ATTENDEE;CUTYPE=GROUP;ROLE=OPT-PARTICIPANT;RSVP=FALSE;CN=Data Privacy Vocab
 ularies and Controls Community Group:mailto:public-dpvcg@w3.org
RECURRENCE-ID;TZID=Europe/Dublin:20250710T133000
END:VEVENT
END:VCALENDAR
